BEGIN:VCALENDAR
VERSION:2.0
PRODID:-//Fresno Council of Governments - ECPv6.15.20//NONSGML v1.0//EN
CALSCALE:GREGORIAN
METHOD:PUBLISH
X-ORIGINAL-URL:https://www.fresnocog.org
X-WR-CALDESC:Events for Fresno Council of Governments
REFRESH-INTERVAL;VALUE=DURATION:PT1H
X-Robots-Tag:noindex
X-PUBLISHED-TTL:PT1H
BEGIN:VTIMEZONE
TZID:America/Los_Angeles
BEGIN:DAYLIGHT
TZOFFSETFROM:-0800
TZOFFSETTO:-0700
TZNAME:PDT
DTSTART:20170312T100000
END:DAYLIGHT
BEGIN:STANDARD
TZOFFSETFROM:-0700
TZOFFSETTO:-0800
TZNAME:PST
DTSTART:20171105T090000
END:STANDARD
BEGIN:DAYLIGHT
TZOFFSETFROM:-0800
TZOFFSETTO:-0700
TZNAME:PDT
DTSTART:20180311T100000
END:DAYLIGHT
BEGIN:STANDARD
TZOFFSETFROM:-0700
TZOFFSETTO:-0800
TZNAME:PST
DTSTART:20181104T090000
END:STANDARD
BEGIN:DAYLIGHT
TZOFFSETFROM:-0800
TZOFFSETTO:-0700
TZNAME:PDT
DTSTART:20190310T100000
END:DAYLIGHT
BEGIN:STANDARD
TZOFFSETFROM:-0700
TZOFFSETTO:-0800
TZNAME:PST
DTSTART:20191103T090000
END:STANDARD
END:VTIMEZONE
BEGIN:VEVENT
DTSTART;TZID=America/Los_Angeles:20180327T140000
DTEND;TZID=America/Los_Angeles:20180327T160000
DTSTAMP:20260421T153250
CREATED:20180312T224704Z
LAST-MODIFIED:20180312T224704Z
UID:17326-1522159200-1522166400@www.fresnocog.org
SUMMARY:2019 Regional Active Transportation Program (cycle 4)  Kick-off Meeting
DESCRIPTION:Fresno COG is kicking-off the 2019 Regional Active Transportation Program (cycle 4) by holding a workshop on Tuesday\, March 27th from 2pm -4pm.  At this workshop we will focus on changes from the last cycle at the Statewide level and identify next steps for the regional program.  This will be the first in a series of workshops.  Agenda and additional meeting information will be sent out prior to the meeting. \n  \nDate: Tuesday\, March 27\, 2018 \nTime: 2:00-4:00 P.M. \nFresno COG Ash Room \n  \nYou can find the most current information on the statewide cycle 4 ATP guidelines and draft applications on the CTC website.  http://catc.ca.gov/programs/atp/
URL:https://www.fresnocog.org/event/2019-regional-active-transportation-program-cycle-4-kick-off-meeting/
END:VEVENT
BEGIN:VEVENT
DTSTART;TZID=America/Los_Angeles:20180327T140000
DTEND;TZID=America/Los_Angeles:20180327T160000
DTSTAMP:20260421T153250
CREATED:20180312T224704Z
LAST-MODIFIED:20180312T224704Z
UID:216917-1522159200-1522166400@www.fresnocog.org
SUMMARY:2019 Regional Active Transportation Program (cycle 4)  Kick-off Meeting
DESCRIPTION:Fresno COG is kicking-off the 2019 Regional Active Transportation Program (cycle 4) by holding a workshop on Tuesday\, March 27th from 2pm -4pm.  At this workshop we will focus on changes from the last cycle at the Statewide level and identify next steps for the regional program.  This will be the first in a series of workshops.  Agenda and additional meeting information will be sent out prior to the meeting. \n  \nDate: Tuesday\, March 27\, 2018 \nTime: 2:00-4:00 P.M. \nFresno COG Ash Room \n  \nYou can find the most current information on the statewide cycle 4 ATP guidelines and draft applications on the CTC website.  http://catc.ca.gov/programs/atp/
URL:https://www.fresnocog.org/event/2019-regional-active-transportation-program-cycle-4-kick-off-meeting-2/
END:VEVENT
END:VCALENDAR