BEGIN:VCALENDAR
VERSION:2.0
PRODID:-//Fresno Council of Governments - ECPv6.15.20//NONSGML v1.0//EN
CALSCALE:GREGORIAN
METHOD:PUBLISH
X-ORIGINAL-URL:https://www.fresnocog.org
X-WR-CALDESC:Events for Fresno Council of Governments
REFRESH-INTERVAL;VALUE=DURATION:PT1H
X-Robots-Tag:noindex
X-PUBLISHED-TTL:PT1H
BEGIN:VTIMEZONE
TZID:America/Los_Angeles
BEGIN:DAYLIGHT
TZOFFSETFROM:-0800
TZOFFSETTO:-0700
TZNAME:PDT
DTSTART:20170312T100000
END:DAYLIGHT
BEGIN:STANDARD
TZOFFSETFROM:-0700
TZOFFSETTO:-0800
TZNAME:PST
DTSTART:20171105T090000
END:STANDARD
BEGIN:DAYLIGHT
TZOFFSETFROM:-0800
TZOFFSETTO:-0700
TZNAME:PDT
DTSTART:20180311T100000
END:DAYLIGHT
BEGIN:STANDARD
TZOFFSETFROM:-0700
TZOFFSETTO:-0800
TZNAME:PST
DTSTART:20181104T090000
END:STANDARD
BEGIN:DAYLIGHT
TZOFFSETFROM:-0800
TZOFFSETTO:-0700
TZNAME:PDT
DTSTART:20190310T100000
END:DAYLIGHT
BEGIN:STANDARD
TZOFFSETFROM:-0700
TZOFFSETTO:-0800
TZNAME:PST
DTSTART:20191103T090000
END:STANDARD
END:VTIMEZONE
BEGIN:VEVENT
DTSTART;TZID=America/Los_Angeles:20180503T100000
DTEND;TZID=America/Los_Angeles:20180503T120000
DTSTAMP:20260421T122939
CREATED:20180502T185217Z
LAST-MODIFIED:20180502T185217Z
UID:18350-1525341600-1525348800@www.fresnocog.org
SUMMARY:San Joaquin Valley Regional Planning Agencies' Directors' Committee Meeting
DESCRIPTION:SJV RPA May 3\, 2018 Directors Comm Packet
URL:https://www.fresnocog.org/event/san-joaquin-valley-regional-planning-agencies-directors-committee-meeting/
END:VEVENT
BEGIN:VEVENT
DTSTART;TZID=America/Los_Angeles:20180503T100000
DTEND;TZID=America/Los_Angeles:20180503T120000
DTSTAMP:20260421T122939
CREATED:20180502T185217Z
LAST-MODIFIED:20180502T185217Z
UID:216931-1525341600-1525348800@www.fresnocog.org
SUMMARY:San Joaquin Valley Regional Planning Agencies' Directors' Committee Meeting
DESCRIPTION:SJV RPA May 3\, 2018 Directors Comm Packet
URL:https://www.fresnocog.org/event/san-joaquin-valley-regional-planning-agencies-directors-committee-meeting-3/
END:VEVENT
END:VCALENDAR