BEGIN:VCALENDAR
VERSION:2.0
PRODID:-//Fresno Council of Governments - ECPv6.15.20//NONSGML v1.0//EN
CALSCALE:GREGORIAN
METHOD:PUBLISH
X-WR-CALNAME:Fresno Council of Governments
X-ORIGINAL-URL:https://www.fresnocog.org
X-WR-CALDESC:Events for Fresno Council of Governments
REFRESH-INTERVAL;VALUE=DURATION:PT1H
X-Robots-Tag:noindex
X-PUBLISHED-TTL:PT1H
BEGIN:VTIMEZONE
TZID:America/Los_Angeles
BEGIN:DAYLIGHT
TZOFFSETFROM:-0800
TZOFFSETTO:-0700
TZNAME:PDT
DTSTART:20170312T100000
END:DAYLIGHT
BEGIN:STANDARD
TZOFFSETFROM:-0700
TZOFFSETTO:-0800
TZNAME:PST
DTSTART:20171105T090000
END:STANDARD
BEGIN:DAYLIGHT
TZOFFSETFROM:-0800
TZOFFSETTO:-0700
TZNAME:PDT
DTSTART:20180311T100000
END:DAYLIGHT
BEGIN:STANDARD
TZOFFSETFROM:-0700
TZOFFSETTO:-0800
TZNAME:PST
DTSTART:20181104T090000
END:STANDARD
BEGIN:DAYLIGHT
TZOFFSETFROM:-0800
TZOFFSETTO:-0700
TZNAME:PDT
DTSTART:20190310T100000
END:DAYLIGHT
BEGIN:STANDARD
TZOFFSETFROM:-0700
TZOFFSETTO:-0800
TZNAME:PST
DTSTART:20191103T090000
END:STANDARD
END:VTIMEZONE
BEGIN:VEVENT
DTSTART;TZID=America/Los_Angeles:20180511T160000
DTEND;TZID=America/Los_Angeles:20180511T160000
DTSTAMP:20260421T110853
CREATED:20180424T161707Z
LAST-MODIFIED:20180424T161707Z
UID:18335-1526054400-1526054400@www.fresnocog.org
SUMMARY:Due: Fresno County Multi-jurisdictional Pavement Management Systems Request for Proposals
DESCRIPTION:Fresno County Multi-jurisdictional Pavement Management Systems Request for Proposals\nFresno COG is seeking consultant services to develop Multi-jurisdictional Pavement Management Systems (PMS) for nine local agencies in Fresno County. The Multi-jurisdictional PMS will be implemented with StreetSaver\, a pavement management software developed and maintained by the Metropolitan Transportation Commission (MTC). Access the RFP HERE. The deadline for proposals is Friday\, May 11\, 2018\, 4:00 pm.
URL:https://www.fresnocog.org/event/due-fresno-county-multi-jurisdictional-pavement-management-systems-request-for-proposals/
END:VEVENT
BEGIN:VEVENT
DTSTART;TZID=America/Los_Angeles:20180511T160000
DTEND;TZID=America/Los_Angeles:20180511T160000
DTSTAMP:20260421T110853
CREATED:20180424T161707Z
LAST-MODIFIED:20180424T161707Z
UID:216929-1526054400-1526054400@www.fresnocog.org
SUMMARY:Due: Fresno County Multi-jurisdictional Pavement Management Systems Request for Proposals
DESCRIPTION:Fresno County Multi-jurisdictional Pavement Management Systems Request for Proposals\nFresno COG is seeking consultant services to develop Multi-jurisdictional Pavement Management Systems (PMS) for nine local agencies in Fresno County. The Multi-jurisdictional PMS will be implemented with StreetSaver\, a pavement management software developed and maintained by the Metropolitan Transportation Commission (MTC). Access the RFP HERE. The deadline for proposals is Friday\, May 11\, 2018\, 4:00 pm.
URL:https://www.fresnocog.org/event/due-fresno-county-multi-jurisdictional-pavement-management-systems-request-for-proposals-2/
END:VEVENT
END:VCALENDAR