BEGIN:VCALENDAR
VERSION:2.0
PRODID:-//Fresno Council of Governments - ECPv6.15.20//NONSGML v1.0//EN
CALSCALE:GREGORIAN
METHOD:PUBLISH
X-WR-CALNAME:Fresno Council of Governments
X-ORIGINAL-URL:https://www.fresnocog.org
X-WR-CALDESC:Events for Fresno Council of Governments
REFRESH-INTERVAL;VALUE=DURATION:PT1H
X-Robots-Tag:noindex
X-PUBLISHED-TTL:PT1H
BEGIN:VTIMEZONE
TZID:America/Los_Angeles
BEGIN:DAYLIGHT
TZOFFSETFROM:-0800
TZOFFSETTO:-0700
TZNAME:PDT
DTSTART:20170312T100000
END:DAYLIGHT
BEGIN:STANDARD
TZOFFSETFROM:-0700
TZOFFSETTO:-0800
TZNAME:PST
DTSTART:20171105T090000
END:STANDARD
BEGIN:DAYLIGHT
TZOFFSETFROM:-0800
TZOFFSETTO:-0700
TZNAME:PDT
DTSTART:20180311T100000
END:DAYLIGHT
BEGIN:STANDARD
TZOFFSETFROM:-0700
TZOFFSETTO:-0800
TZNAME:PST
DTSTART:20181104T090000
END:STANDARD
BEGIN:DAYLIGHT
TZOFFSETFROM:-0800
TZOFFSETTO:-0700
TZNAME:PDT
DTSTART:20190310T100000
END:DAYLIGHT
BEGIN:STANDARD
TZOFFSETFROM:-0700
TZOFFSETTO:-0800
TZNAME:PST
DTSTART:20191103T090000
END:STANDARD
END:VTIMEZONE
BEGIN:VEVENT
DTSTART;VALUE=DATE:20180723
DTEND;VALUE=DATE:20180724
DTSTAMP:20260421T082026
CREATED:20180424T161902Z
LAST-MODIFIED:20180424T161902Z
UID:18337-1532304000-1532390399@www.fresnocog.org
SUMMARY:Proposals Due: Measure C New Technology Reserve Fund 2018 Proposals
DESCRIPTION:Measure C New Technology Reserve Fund 2018 Proposals now being accepted\nFresno Council of Governments (Fresno COG) is seeking proposals from eligible public agencies for advanced transit and transportation projects that have the potential for broad benefits to Fresno County residents and will assist the region in meeting its air quality goals. Fresno COG and the Fresno County Transportation Authority (FCTA) are proposing to fund projects of regional significance in the areas of research\, development\, demonstration\, and deployment that will advance public transit and transportation funded by Measure “C”\, Fresno County’s ½ cent transportation sales tax.  This second cycle of the Measure “C” New Technology Reserve Program will make up to $6.4 million available for eligible new technology projects/programs. \n\n2018 – 2019 Measure C New Technology Reserve Grant Program Application Available HERE\n\nApplications can only be submitted by eligible public agencies within Fresno County including the Fresno COG\, Fresno County Rural Transit Agency\, Fresno County\, and the cities in Fresno County who propose projects meeting the eligibility requirements of the Measure C New Technology Reserve Grant Program. Entities deemed ineligible to apply for New Technology Grant funds may apply as a partnering agency but must partner with an eligible public agency that will be responsible for implementing the project. The implementing agency assumes responsibility and accountability for the use and expenditure of program funds.
URL:https://www.fresnocog.org/event/proposals-due-measure-c-new-technology-reserve-fund-2018-proposals/
END:VEVENT
BEGIN:VEVENT
DTSTART;VALUE=DATE:20180723
DTEND;VALUE=DATE:20180724
DTSTAMP:20260421T082026
CREATED:20180424T161902Z
LAST-MODIFIED:20180424T161902Z
UID:216930-1532304000-1532390399@www.fresnocog.org
SUMMARY:Proposals Due: Measure C New Technology Reserve Fund 2018 Proposals
DESCRIPTION:Measure C New Technology Reserve Fund 2018 Proposals now being accepted\nFresno Council of Governments (Fresno COG) is seeking proposals from eligible public agencies for advanced transit and transportation projects that have the potential for broad benefits to Fresno County residents and will assist the region in meeting its air quality goals. Fresno COG and the Fresno County Transportation Authority (FCTA) are proposing to fund projects of regional significance in the areas of research\, development\, demonstration\, and deployment that will advance public transit and transportation funded by Measure “C”\, Fresno County’s ½ cent transportation sales tax.  This second cycle of the Measure “C” New Technology Reserve Program will make up to $6.4 million available for eligible new technology projects/programs. \n\n2018 – 2019 Measure C New Technology Reserve Grant Program Application Available HERE\n\nApplications can only be submitted by eligible public agencies within Fresno County including the Fresno COG\, Fresno County Rural Transit Agency\, Fresno County\, and the cities in Fresno County who propose projects meeting the eligibility requirements of the Measure C New Technology Reserve Grant Program. Entities deemed ineligible to apply for New Technology Grant funds may apply as a partnering agency but must partner with an eligible public agency that will be responsible for implementing the project. The implementing agency assumes responsibility and accountability for the use and expenditure of program funds.
URL:https://www.fresnocog.org/event/proposals-due-measure-c-new-technology-reserve-fund-2018-proposals-2/
END:VEVENT
END:VCALENDAR