BEGIN:VCALENDAR
VERSION:2.0
PRODID:-//Fresno Council of Governments - ECPv6.15.20//NONSGML v1.0//EN
CALSCALE:GREGORIAN
METHOD:PUBLISH
X-ORIGINAL-URL:https://www.fresnocog.org
X-WR-CALDESC:Events for Fresno Council of Governments
REFRESH-INTERVAL;VALUE=DURATION:PT1H
X-Robots-Tag:noindex
X-PUBLISHED-TTL:PT1H
BEGIN:VTIMEZONE
TZID:America/Los_Angeles
BEGIN:DAYLIGHT
TZOFFSETFROM:-0800
TZOFFSETTO:-0700
TZNAME:PDT
DTSTART:20180311T100000
END:DAYLIGHT
BEGIN:STANDARD
TZOFFSETFROM:-0700
TZOFFSETTO:-0800
TZNAME:PST
DTSTART:20181104T090000
END:STANDARD
BEGIN:DAYLIGHT
TZOFFSETFROM:-0800
TZOFFSETTO:-0700
TZNAME:PDT
DTSTART:20190310T100000
END:DAYLIGHT
BEGIN:STANDARD
TZOFFSETFROM:-0700
TZOFFSETTO:-0800
TZNAME:PST
DTSTART:20191103T090000
END:STANDARD
BEGIN:DAYLIGHT
TZOFFSETFROM:-0800
TZOFFSETTO:-0700
TZNAME:PDT
DTSTART:20200308T100000
END:DAYLIGHT
BEGIN:STANDARD
TZOFFSETFROM:-0700
TZOFFSETTO:-0800
TZNAME:PST
DTSTART:20201101T090000
END:STANDARD
END:VTIMEZONE
BEGIN:VEVENT
DTSTART;TZID=America/Los_Angeles:20190513T140000
DTEND;TZID=America/Los_Angeles:20190513T160000
DTSTAMP:20260419T212352
CREATED:20190430T234746Z
LAST-MODIFIED:20190430T234746Z
UID:19684-1557756000-1557763200@www.fresnocog.org
SUMMARY:Fresno County Airport Land Use Commission Meeting
DESCRIPTION:
URL:https://www.fresnocog.org/event/fresno-county-airport-land-use-commission-meeting/
END:VEVENT
BEGIN:VEVENT
DTSTART;TZID=America/Los_Angeles:20190513T140000
DTEND;TZID=America/Los_Angeles:20190513T160000
DTSTAMP:20260419T212352
CREATED:20190430T234746Z
LAST-MODIFIED:20190430T234746Z
UID:216959-1557756000-1557763200@www.fresnocog.org
SUMMARY:Fresno County Airport Land Use Commission Meeting
DESCRIPTION:
URL:https://www.fresnocog.org/event/fresno-county-airport-land-use-commission-meeting-2/
END:VEVENT
END:VCALENDAR