BEGIN:VCALENDAR
VERSION:2.0
PRODID:-//Fresno Council of Governments - ECPv6.15.20//NONSGML v1.0//EN
CALSCALE:GREGORIAN
METHOD:PUBLISH
X-WR-CALNAME:Fresno Council of Governments
X-ORIGINAL-URL:https://www.fresnocog.org
X-WR-CALDESC:Events for Fresno Council of Governments
REFRESH-INTERVAL;VALUE=DURATION:PT1H
X-Robots-Tag:noindex
X-PUBLISHED-TTL:PT1H
BEGIN:VTIMEZONE
TZID:America/Los_Angeles
BEGIN:DAYLIGHT
TZOFFSETFROM:-0800
TZOFFSETTO:-0700
TZNAME:PDT
DTSTART:20220313T100000
END:DAYLIGHT
BEGIN:STANDARD
TZOFFSETFROM:-0700
TZOFFSETTO:-0800
TZNAME:PST
DTSTART:20221106T090000
END:STANDARD
BEGIN:DAYLIGHT
TZOFFSETFROM:-0800
TZOFFSETTO:-0700
TZNAME:PDT
DTSTART:20230312T100000
END:DAYLIGHT
BEGIN:STANDARD
TZOFFSETFROM:-0700
TZOFFSETTO:-0800
TZNAME:PST
DTSTART:20231105T090000
END:STANDARD
BEGIN:DAYLIGHT
TZOFFSETFROM:-0800
TZOFFSETTO:-0700
TZNAME:PDT
DTSTART:20240310T100000
END:DAYLIGHT
BEGIN:STANDARD
TZOFFSETFROM:-0700
TZOFFSETTO:-0800
TZNAME:PST
DTSTART:20241103T090000
END:STANDARD
END:VTIMEZONE
BEGIN:VEVENT
DTSTART;TZID=America/Los_Angeles:20230222T173000
DTEND;TZID=America/Los_Angeles:20230222T183000
DTSTAMP:20260419T074302
CREATED:20230215T224026Z
LAST-MODIFIED:20230215T224026Z
UID:217211-1677087000-1677090600@www.fresnocog.org
SUMMARY:Unmet Transit Needs Community Event
DESCRIPTION:Virtual Meeting #2 – ZOOM Webinar \n\n\n\nRegister to attend the Zoom webinar or watch it streamed live on Fresno COG’s YouTube Channel
URL:https://www.fresnocog.org/event/unmet-transit-needs-community-event-2-2/
END:VEVENT
BEGIN:VEVENT
DTSTART;TZID=America/Los_Angeles:20230222T173000
DTEND;TZID=America/Los_Angeles:20230222T183000
DTSTAMP:20260419T074302
CREATED:20230215T224026Z
LAST-MODIFIED:20230215T224026Z
UID:211659-1677087000-1677090600@www.fresnocog.org
SUMMARY:Unmet Transit Needs Community Event
DESCRIPTION:Virtual Meeting #2 – ZOOM Webinar \n\n\n\nRegister to attend the Zoom webinar or watch it streamed live on Fresno COG’s YouTube Channel
URL:https://www.fresnocog.org/event/unmet-transit-needs-community-event-2/
END:VEVENT
END:VCALENDAR