BEGIN:VCALENDAR
VERSION:2.0
PRODID:-//Fresno Council of Governments - ECPv6.15.20//NONSGML v1.0//EN
CALSCALE:GREGORIAN
METHOD:PUBLISH
X-ORIGINAL-URL:https://www.fresnocog.org
X-WR-CALDESC:Events for Fresno Council of Governments
REFRESH-INTERVAL;VALUE=DURATION:PT1H
X-Robots-Tag:noindex
X-PUBLISHED-TTL:PT1H
BEGIN:VTIMEZONE
TZID:America/Los_Angeles
BEGIN:DAYLIGHT
TZOFFSETFROM:-0800
TZOFFSETTO:-0700
TZNAME:PDT
DTSTART:20220313T100000
END:DAYLIGHT
BEGIN:STANDARD
TZOFFSETFROM:-0700
TZOFFSETTO:-0800
TZNAME:PST
DTSTART:20221106T090000
END:STANDARD
BEGIN:DAYLIGHT
TZOFFSETFROM:-0800
TZOFFSETTO:-0700
TZNAME:PDT
DTSTART:20230312T100000
END:DAYLIGHT
BEGIN:STANDARD
TZOFFSETFROM:-0700
TZOFFSETTO:-0800
TZNAME:PST
DTSTART:20231105T090000
END:STANDARD
BEGIN:DAYLIGHT
TZOFFSETFROM:-0800
TZOFFSETTO:-0700
TZNAME:PDT
DTSTART:20240310T100000
END:DAYLIGHT
BEGIN:STANDARD
TZOFFSETFROM:-0700
TZOFFSETTO:-0800
TZNAME:PST
DTSTART:20241103T090000
END:STANDARD
END:VTIMEZONE
BEGIN:VEVENT
DTSTART;TZID=America/Los_Angeles:20230321T093000
DTEND;TZID=America/Los_Angeles:20230321T110000
DTSTAMP:20260419T062302
CREATED:20230315T161448Z
LAST-MODIFIED:20230315T161448Z
UID:217222-1679391000-1679396400@www.fresnocog.org
SUMMARY:Fresno County Coordinated Public Transit – Human Services Transportation Plan Pop Up Event - Manchester Transit Center
DESCRIPTION:Have a question about transportation programs and services in Fresno County?  Wish to share an idea for improving transportation? Drop by any of the information-sharing pop-up events to be held in cities throughout Fresno County. \n\n\n\nEach pop-up event will include transportation service brochures\, information regarding vanpool and carpool services\, and smiling\, bilingual community outreach staff. \n\n\n\nHave an idea for improving local transportation but can’t get to a pop-up event? Complete a short survey (click here) and/or leave a comment using the “Contact Us” function.
URL:https://www.fresnocog.org/event/fresno-county-coordinated-public-transit-human-services-transportation-plan-pop-up-booth-4/
END:VEVENT
BEGIN:VEVENT
DTSTART;TZID=America/Los_Angeles:20230321T093000
DTEND;TZID=America/Los_Angeles:20230321T110000
DTSTAMP:20260419T062302
CREATED:20230315T161448Z
LAST-MODIFIED:20230315T161448Z
UID:212950-1679391000-1679396400@www.fresnocog.org
SUMMARY:Fresno County Coordinated Public Transit – Human Services Transportation Plan Pop Up Event - Manchester Transit Center
DESCRIPTION:Have a question about transportation programs and services in Fresno County?  Wish to share an idea for improving transportation? Drop by any of the information-sharing pop-up events to be held in cities throughout Fresno County. \n\n\n\nEach pop-up event will include transportation service brochures\, information regarding vanpool and carpool services\, and smiling\, bilingual community outreach staff. \n\n\n\nHave an idea for improving local transportation but can’t get to a pop-up event? Complete a short survey (click here) and/or leave a comment using the “Contact Us” function.
URL:https://www.fresnocog.org/event/fresno-county-coordinated-public-transit-human-services-transportation-plan-pop-up-booth/
END:VEVENT
BEGIN:VEVENT
DTSTART;TZID=America/Los_Angeles:20230321T130000
DTEND;TZID=America/Los_Angeles:20230321T143000
DTSTAMP:20260419T062302
CREATED:20230315T161625Z
LAST-MODIFIED:20230315T161625Z
UID:217223-1679403600-1679409000@www.fresnocog.org
SUMMARY:Fresno County Coordinated Public Transit – Human Services Transportation Plan Pop Up Event - Kerman Senior Center
DESCRIPTION:Join us at the Kerman Senior Center\, 720 S. Eighth Street\, Kerman\, CA 93630 \n\n\n\nHave a question about transportation programs and services in Fresno County?  Wish to share an idea for improving transportation? Drop by any of the information-sharing pop-up events to be held in cities throughout Fresno County. \n\n\n\nEach pop-up event will include transportation service brochures\, information regarding vanpool and carpool services\, and smiling\, bilingual community outreach staff. \n\n\n\nHave an idea for improving local transportation but can’t get to a pop-up event? Complete a short survey (click here) and/or leave a comment using the “Contact Us” function.
URL:https://www.fresnocog.org/event/fresno-county-coordinated-public-transit-human-services-transportation-plan-pop-up-booth-2-2/
END:VEVENT
BEGIN:VEVENT
DTSTART;TZID=America/Los_Angeles:20230321T130000
DTEND;TZID=America/Los_Angeles:20230321T143000
DTSTAMP:20260419T062302
CREATED:20230315T161625Z
LAST-MODIFIED:20230315T161625Z
UID:212952-1679403600-1679409000@www.fresnocog.org
SUMMARY:Fresno County Coordinated Public Transit – Human Services Transportation Plan Pop Up Event - Kerman Senior Center
DESCRIPTION:Join us at the Kerman Senior Center\, 720 S. Eighth Street\, Kerman\, CA 93630 \n\n\n\nHave a question about transportation programs and services in Fresno County?  Wish to share an idea for improving transportation? Drop by any of the information-sharing pop-up events to be held in cities throughout Fresno County. \n\n\n\nEach pop-up event will include transportation service brochures\, information regarding vanpool and carpool services\, and smiling\, bilingual community outreach staff. \n\n\n\nHave an idea for improving local transportation but can’t get to a pop-up event? Complete a short survey (click here) and/or leave a comment using the “Contact Us” function.
URL:https://www.fresnocog.org/event/fresno-county-coordinated-public-transit-human-services-transportation-plan-pop-up-booth-2/
END:VEVENT
BEGIN:VEVENT
DTSTART;TZID=America/Los_Angeles:20230321T133000
DTEND;TZID=America/Los_Angeles:20230321T150000
DTSTAMP:20260419T062302
CREATED:20221222T005830Z
LAST-MODIFIED:20221222T005830Z
UID:209917-1679405400-1679410800@www.fresnocog.org
SUMMARY:Social Services Transportation Advisory Council 
DESCRIPTION:
URL:https://www.fresnocog.org/event/social-services-transportation-advisory-council-3/
END:VEVENT
BEGIN:VEVENT
DTSTART;TZID=America/Los_Angeles:20230321T133000
DTEND;TZID=America/Los_Angeles:20230321T150000
DTSTAMP:20260419T062302
CREATED:20221222T005830Z
LAST-MODIFIED:20221222T005830Z
UID:217199-1679405400-1679410800@www.fresnocog.org
SUMMARY:Social Services Transportation Advisory Council 
DESCRIPTION:
URL:https://www.fresnocog.org/event/social-services-transportation-advisory-council-3-2/
END:VEVENT
BEGIN:VEVENT
DTSTART;TZID=America/Los_Angeles:20230321T160000
DTEND;TZID=America/Los_Angeles:20230321T173000
DTSTAMP:20260419T062302
CREATED:20230315T161800Z
LAST-MODIFIED:20230315T161800Z
UID:217224-1679414400-1679419800@www.fresnocog.org
SUMMARY:Fresno County Coordinated Public Transit – Human Services Transportation Plan Pop Up Event - Clovis Civic Center
DESCRIPTION:Join us at  Clovis Civic Center – near bus stops out front of building5th Street & Baron Ave\, Clovis\, CA 936112Across the street from Clark Middle School \n\n\n\nHave a question about transportation programs and services in Fresno County?  Wish to share an idea for improving transportation? Drop by any of the information-sharing pop-up events to be held in cities throughout Fresno County. \n\n\n\nEach pop-up event will include transportation service brochures\, information regarding vanpool and carpool services\, and smiling\, bilingual community outreach staff. \n\n\n\nHave an idea for improving local transportation but can’t get to a pop-up event? Complete a short survey (click here) and/or leave a comment using the “Contact Us” function.
URL:https://www.fresnocog.org/event/fresno-county-coordinated-public-transit-human-services-transportation-plan-pop-up-event-4/
END:VEVENT
BEGIN:VEVENT
DTSTART;TZID=America/Los_Angeles:20230321T160000
DTEND;TZID=America/Los_Angeles:20230321T173000
DTSTAMP:20260419T062302
CREATED:20230315T161800Z
LAST-MODIFIED:20230315T161800Z
UID:212953-1679414400-1679419800@www.fresnocog.org
SUMMARY:Fresno County Coordinated Public Transit – Human Services Transportation Plan Pop Up Event - Clovis Civic Center
DESCRIPTION:Join us at  Clovis Civic Center – near bus stops out front of building5th Street & Baron Ave\, Clovis\, CA 936112Across the street from Clark Middle School \n\n\n\nHave a question about transportation programs and services in Fresno County?  Wish to share an idea for improving transportation? Drop by any of the information-sharing pop-up events to be held in cities throughout Fresno County. \n\n\n\nEach pop-up event will include transportation service brochures\, information regarding vanpool and carpool services\, and smiling\, bilingual community outreach staff. \n\n\n\nHave an idea for improving local transportation but can’t get to a pop-up event? Complete a short survey (click here) and/or leave a comment using the “Contact Us” function.
URL:https://www.fresnocog.org/event/fresno-county-coordinated-public-transit-human-services-transportation-plan-pop-up-event/
END:VEVENT
END:VCALENDAR