BEGIN:VCALENDAR
VERSION:2.0
PRODID:-//Fresno Council of Governments - ECPv6.15.20//NONSGML v1.0//EN
CALSCALE:GREGORIAN
METHOD:PUBLISH
X-ORIGINAL-URL:https://www.fresnocog.org
X-WR-CALDESC:Events for Fresno Council of Governments
REFRESH-INTERVAL;VALUE=DURATION:PT1H
X-Robots-Tag:noindex
X-PUBLISHED-TTL:PT1H
BEGIN:VTIMEZONE
TZID:America/Los_Angeles
BEGIN:DAYLIGHT
TZOFFSETFROM:-0800
TZOFFSETTO:-0700
TZNAME:PDT
DTSTART:20220313T100000
END:DAYLIGHT
BEGIN:STANDARD
TZOFFSETFROM:-0700
TZOFFSETTO:-0800
TZNAME:PST
DTSTART:20221106T090000
END:STANDARD
BEGIN:DAYLIGHT
TZOFFSETFROM:-0800
TZOFFSETTO:-0700
TZNAME:PDT
DTSTART:20230312T100000
END:DAYLIGHT
BEGIN:STANDARD
TZOFFSETFROM:-0700
TZOFFSETTO:-0800
TZNAME:PST
DTSTART:20231105T090000
END:STANDARD
BEGIN:DAYLIGHT
TZOFFSETFROM:-0800
TZOFFSETTO:-0700
TZNAME:PDT
DTSTART:20240310T100000
END:DAYLIGHT
BEGIN:STANDARD
TZOFFSETFROM:-0700
TZOFFSETTO:-0800
TZNAME:PST
DTSTART:20241103T090000
END:STANDARD
END:VTIMEZONE
BEGIN:VEVENT
DTSTART;TZID=America/Los_Angeles:20230502T133000
DTEND;TZID=America/Los_Angeles:20230502T143000
DTSTAMP:20260419T062302
CREATED:20221222T005907Z
LAST-MODIFIED:20221222T005907Z
UID:209918-1683034200-1683037800@www.fresnocog.org
SUMMARY:Social Services Transportation Advisory Council 
DESCRIPTION:
URL:https://www.fresnocog.org/event/social-services-transportation-advisory-council-4/
END:VEVENT
BEGIN:VEVENT
DTSTART;TZID=America/Los_Angeles:20230502T133000
DTEND;TZID=America/Los_Angeles:20230502T143000
DTSTAMP:20260419T062302
CREATED:20221222T005907Z
LAST-MODIFIED:20221222T005907Z
UID:217200-1683034200-1683037800@www.fresnocog.org
SUMMARY:Social Services Transportation Advisory Council 
DESCRIPTION:
URL:https://www.fresnocog.org/event/social-services-transportation-advisory-council-4-2/
END:VEVENT
BEGIN:VEVENT
DTSTART;TZID=America/Los_Angeles:20230502T170000
DTEND;TZID=America/Los_Angeles:20230502T173000
DTSTAMP:20260419T062302
CREATED:20230424T173241Z
LAST-MODIFIED:20230424T173241Z
UID:215534-1683046800-1683048600@www.fresnocog.org
SUMMARY:Public Hearing: Draft FTIP Amendment 2\, Draft 2022 RTP Amendment 1 & Draft Conformity Analysis
DESCRIPTION:The hearing officer will receive public comment on these documents at 5 pm in Fresno COG’s Sequoia Conference Room. Translation services are available with 3-days advance notice. A 30-day public comment period will commence April 13\, 2023 and conclude May 12\, 2023. Draft documents are available on Fresno COG’s website. Comments may also be submitted in writing by 5 pm May 12\, 2023 to Robert Phipps\, rphipps@fresnocog.org. or by U.S. Mail.
URL:https://www.fresnocog.org/event/public-hearing-draft-ftip-amendment-2-draft-2022-rtp-amendment-1-draft-conformity-analysis/
END:VEVENT
BEGIN:VEVENT
DTSTART;TZID=America/Los_Angeles:20230502T170000
DTEND;TZID=America/Los_Angeles:20230502T173000
DTSTAMP:20260419T062302
CREATED:20230424T173241Z
LAST-MODIFIED:20230424T173241Z
UID:217232-1683046800-1683048600@www.fresnocog.org
SUMMARY:Public Hearing: Draft FTIP Amendment 2\, Draft 2022 RTP Amendment 1 & Draft Conformity Analysis
DESCRIPTION:The hearing officer will receive public comment on these documents at 5 pm in Fresno COG’s Sequoia Conference Room. Translation services are available with 3-days advance notice. A 30-day public comment period will commence April 13\, 2023 and conclude May 12\, 2023. Draft documents are available on Fresno COG’s website. Comments may also be submitted in writing by 5 pm May 12\, 2023 to Robert Phipps\, rphipps@fresnocog.org. or by U.S. Mail.
URL:https://www.fresnocog.org/event/public-hearing-draft-ftip-amendment-2-draft-2022-rtp-amendment-1-draft-conformity-analysis-2/
END:VEVENT
END:VCALENDAR