BEGIN:VCALENDAR
VERSION:2.0
PRODID:-//Fresno Council of Governments - ECPv6.15.20//NONSGML v1.0//EN
CALSCALE:GREGORIAN
METHOD:PUBLISH
X-WR-CALNAME:Fresno Council of Governments
X-ORIGINAL-URL:https://www.fresnocog.org
X-WR-CALDESC:Events for Fresno Council of Governments
REFRESH-INTERVAL;VALUE=DURATION:PT1H
X-Robots-Tag:noindex
X-PUBLISHED-TTL:PT1H
BEGIN:VTIMEZONE
TZID:America/Los_Angeles
BEGIN:DAYLIGHT
TZOFFSETFROM:-0800
TZOFFSETTO:-0700
TZNAME:PDT
DTSTART:20220313T100000
END:DAYLIGHT
BEGIN:STANDARD
TZOFFSETFROM:-0700
TZOFFSETTO:-0800
TZNAME:PST
DTSTART:20221106T090000
END:STANDARD
BEGIN:DAYLIGHT
TZOFFSETFROM:-0800
TZOFFSETTO:-0700
TZNAME:PDT
DTSTART:20230312T100000
END:DAYLIGHT
BEGIN:STANDARD
TZOFFSETFROM:-0700
TZOFFSETTO:-0800
TZNAME:PST
DTSTART:20231105T090000
END:STANDARD
BEGIN:DAYLIGHT
TZOFFSETFROM:-0800
TZOFFSETTO:-0700
TZNAME:PDT
DTSTART:20240310T100000
END:DAYLIGHT
BEGIN:STANDARD
TZOFFSETFROM:-0700
TZOFFSETTO:-0800
TZNAME:PST
DTSTART:20241103T090000
END:STANDARD
END:VTIMEZONE
BEGIN:VEVENT
DTSTART;TZID=America/Los_Angeles:20231116T150000
DTEND;TZID=America/Los_Angeles:20231116T160000
DTSTAMP:20260419T131949
CREATED:20231101T214702Z
LAST-MODIFIED:20240803T031841Z
UID:216198-1700146800-1700150400@www.fresnocog.org
SUMMARY:REAP 2.0 Office Hours
DESCRIPTION:Join Fresno COG staff virtually at “Office Hours” to learn more and ask questions about the REAP process and eligibility. All office hours meeting will be held on Microsoft Teams.  Download Teams | Join on the web \n\n\n\nClick here to join the meeting \n\n\n\nMeeting ID: 246 020 101 998Passcode: dNrAmt \n\n\n\nOr call in (audio only): \n\n\n\n+1 858-429-0349\,\,942228459#   \n\n\n\nUnited States\, San Diego \n\n\n\nPhone Conference ID: 942 228 459# \n\n\n\nFind a local number | Reset PIN
URL:https://www.fresnocog.org/event/reap-2-0-office-hours-3/
END:VEVENT
BEGIN:VEVENT
DTSTART;TZID=America/Los_Angeles:20231116T150000
DTEND;TZID=America/Los_Angeles:20231116T160000
DTSTAMP:20260419T131949
CREATED:20231101T214702Z
LAST-MODIFIED:20231101T214702Z
UID:217239-1700146800-1700150400@www.fresnocog.org
SUMMARY:REAP 2.0 Office Hours
DESCRIPTION:Join Fresno COG staff virtually at “Office Hours” to learn more and ask questions about the REAP process and eligibility. All office hours meeting witll be held on Microsoft Teams.  Download Teams | Join on the web \n\n\n\nClick here to join the meeting \n\n\n\nMeeting ID: 246 020 101 998Passcode: dNrAmt \n\n\n\nOr call in (audio only): \n\n\n\n+1 858-429-0349\,\,942228459#   \n\n\n\nUnited States\, San Diego \n\n\n\nPhone Conference ID: 942 228 459# \n\n\n\nFind a local number | Reset PIN
URL:https://www.fresnocog.org/event/reap-2-0-office-hours-3-2/
END:VEVENT
END:VCALENDAR