BEGIN:VCALENDAR
VERSION:2.0
PRODID:-//Fresno Council of Governments - ECPv6.15.20//NONSGML v1.0//EN
CALSCALE:GREGORIAN
METHOD:PUBLISH
X-ORIGINAL-URL:https://www.fresnocog.org
X-WR-CALDESC:Events for Fresno Council of Governments
REFRESH-INTERVAL;VALUE=DURATION:PT1H
X-Robots-Tag:noindex
X-PUBLISHED-TTL:PT1H
BEGIN:VTIMEZONE
TZID:UTC
BEGIN:STANDARD
TZOFFSETFROM:+0000
TZOFFSETTO:+0000
TZNAME:UTC
DTSTART:20230101T000000
END:STANDARD
END:VTIMEZONE
BEGIN:VEVENT
DTSTART;TZID=UTC:20240110T140000
DTEND;TZID=UTC:20240110T153000
DTSTAMP:20260419T120209
CREATED:20240109T015401Z
LAST-MODIFIED:20240109T015401Z
UID:217646-1704895200-1704900600@www.fresnocog.org
SUMMARY:Priority Climate Action Plan (PCAP) Stakeholder Meeting
DESCRIPTION:The PCAP Stakeholder Steering Committee will hold their second meeting January 10\, 2024\, to review all input received as a result of public outreach regarding community priorities\, and all consultant and staff work completed. The agenda and meeting materials are available below: \nRegister in advance for this webinar:\nhttps://us06web.zoom.us/webinar/register/WN_nQHS5CsBTYS1t0exkhd1_g
URL:https://www.fresnocog.org/event/priority-climate-action-plan-pcap-stakeholder-meeting/
LOCATION:Zoom
ORGANIZER;CN="Simran Jhutti":MAILTO:jhutti@fresnocog.org
END:VEVENT
END:VCALENDAR