BEGIN:VCALENDAR
VERSION:2.0
PRODID:-//Fresno Council of Governments - ECPv6.15.20//NONSGML v1.0//EN
CALSCALE:GREGORIAN
METHOD:PUBLISH
X-ORIGINAL-URL:https://www.fresnocog.org
X-WR-CALDESC:Events for Fresno Council of Governments
REFRESH-INTERVAL;VALUE=DURATION:PT1H
X-Robots-Tag:noindex
X-PUBLISHED-TTL:PT1H
BEGIN:VTIMEZONE
TZID:UTC
BEGIN:STANDARD
TZOFFSETFROM:+0000
TZOFFSETTO:+0000
TZNAME:UTC
DTSTART:20230101T000000
END:STANDARD
END:VTIMEZONE
BEGIN:VEVENT
DTSTART;TZID=UTC:20240125T173000
DTEND;TZID=UTC:20240125T193000
DTSTAMP:20260419T120208
CREATED:20240109T014547Z
LAST-MODIFIED:20240109T014547Z
UID:217644-1706203800-1706211000@www.fresnocog.org
SUMMARY:Fresno COG Policy Board Meeting
DESCRIPTION:Agendas are posted one week prior to each Policy Board meeting: https://agendas.fresnocog.org/agenda/search
URL:https://www.fresnocog.org/event/fresno-cog-policy-board-meeting-5/
LOCATION:Fresno Council of Governments\, 2035 Tulare Street\, Ste 201\, Fresno\, CA\, 93721\, United States
ORGANIZER;CN="Denise Flores":MAILTO:dflores@fresnocog.org
END:VEVENT
END:VCALENDAR