BEGIN:VCALENDAR
VERSION:2.0
PRODID:-//Fresno Council of Governments - ECPv6.15.20//NONSGML v1.0//EN
CALSCALE:GREGORIAN
METHOD:PUBLISH
X-WR-CALNAME:Fresno Council of Governments
X-ORIGINAL-URL:https://www.fresnocog.org
X-WR-CALDESC:Events for Fresno Council of Governments
REFRESH-INTERVAL;VALUE=DURATION:PT1H
X-Robots-Tag:noindex
X-PUBLISHED-TTL:PT1H
BEGIN:VTIMEZONE
TZID:UTC
BEGIN:STANDARD
TZOFFSETFROM:+0000
TZOFFSETTO:+0000
TZNAME:UTC
DTSTART:20230101T000000
END:STANDARD
END:VTIMEZONE
BEGIN:VEVENT
DTSTART;TZID=UTC:20240220T133000
DTEND;TZID=UTC:20240220T150000
DTSTAMP:20260419T080007
CREATED:20240117T002743Z
LAST-MODIFIED:20240117T002743Z
UID:217685-1708435800-1708441200@www.fresnocog.org
SUMMARY:Social Services Transit Advisory Council
DESCRIPTION:
URL:https://www.fresnocog.org/event/social-services-transit-advisory-council-6/
LOCATION:Fresno Council of Governments\, 2035 Tulare Street\, Ste 201\, Fresno\, CA\, 93721\, United States
ORGANIZER;CN="Todd Sobrado":MAILTO:har
END:VEVENT
END:VCALENDAR