BEGIN:VCALENDAR
VERSION:2.0
PRODID:-//Fresno Council of Governments - ECPv6.15.20//NONSGML v1.0//EN
CALSCALE:GREGORIAN
METHOD:PUBLISH
X-WR-CALNAME:Fresno Council of Governments
X-ORIGINAL-URL:https://www.fresnocog.org
X-WR-CALDESC:Events for Fresno Council of Governments
REFRESH-INTERVAL;VALUE=DURATION:PT1H
X-Robots-Tag:noindex
X-PUBLISHED-TTL:PT1H
BEGIN:VTIMEZONE
TZID:UTC
BEGIN:STANDARD
TZOFFSETFROM:+0000
TZOFFSETTO:+0000
TZNAME:UTC
DTSTART:20230101T000000
END:STANDARD
END:VTIMEZONE
BEGIN:VEVENT
DTSTART;VALUE=DATE:20240317
DTEND;VALUE=DATE:20240322
DTSTAMP:20260419T080012
CREATED:20240227T013015Z
LAST-MODIFIED:20240227T013015Z
UID:217910-1710633600-1711065599@www.fresnocog.org
SUMMARY:Fresno COG One Voice D.C. Advocacy Trip
DESCRIPTION:
URL:https://www.fresnocog.org/event/fresno-cog-one-voice-d-c-advocacy-trip/
CATEGORIES:Special Groups
ORGANIZER;CN="Brenda Thomas":MAILTO:bthom
END:VEVENT
BEGIN:VEVENT
DTSTART;TZID=UTC:20240319T133000
DTEND;TZID=UTC:20240319T150000
DTSTAMP:20260419T080012
CREATED:20240227T013229Z
LAST-MODIFIED:20240227T013229Z
UID:217912-1710855000-1710860400@www.fresnocog.org
SUMMARY:Social Services Transit Advisory Council (SSTAC) Meeting
DESCRIPTION:Meeting agendas will be posted here\, one week prior to the meeting: Fresno COG Agenda Reader
URL:https://www.fresnocog.org/event/social-services-transit-advisory-council-sstac-meeting/
LOCATION:Fresno Council of Governments\, 2035 Tulare Street\, Ste 201\, Fresno\, CA\, 93721\, United States
CATEGORIES:Committees
ORGANIZER;CN="Todd Sobrado":MAILTO:har
END:VEVENT
END:VCALENDAR