BEGIN:VCALENDAR
VERSION:2.0
PRODID:-//Fresno Council of Governments - ECPv6.15.20//NONSGML v1.0//EN
CALSCALE:GREGORIAN
METHOD:PUBLISH
X-WR-CALNAME:Fresno Council of Governments
X-ORIGINAL-URL:https://www.fresnocog.org
X-WR-CALDESC:Events for Fresno Council of Governments
REFRESH-INTERVAL;VALUE=DURATION:PT1H
X-Robots-Tag:noindex
X-PUBLISHED-TTL:PT1H
BEGIN:VTIMEZONE
TZID:UTC
BEGIN:STANDARD
TZOFFSETFROM:+0000
TZOFFSETTO:+0000
TZNAME:UTC
DTSTART:20230101T000000
END:STANDARD
END:VTIMEZONE
BEGIN:VEVENT
DTSTART;TZID=UTC:20240328T173000
DTEND;TZID=UTC:20240328T193000
DTSTAMP:20260419T075933
CREATED:20240227T011417Z
LAST-MODIFIED:20240227T011417Z
UID:217907-1711647000-1711654200@www.fresnocog.org
SUMMARY:Policy Board Meeting
DESCRIPTION:Meeting agendas will be posted here\, one week prior to the meeting: Fresno COG Agenda Reader
URL:https://www.fresnocog.org/event/policy-board-meeting-10/
LOCATION:Fresno Council of Governments\, 2035 Tulare Street\, Ste 201\, Fresno\, CA\, 93721\, United States
ORGANIZER;CN="Denise Flores":MAILTO:dflores@fresnocog.org
END:VEVENT
END:VCALENDAR