BEGIN:VCALENDAR
VERSION:2.0
PRODID:-//Fresno Council of Governments - ECPv6.15.20//NONSGML v1.0//EN
CALSCALE:GREGORIAN
METHOD:PUBLISH
X-WR-CALNAME:Fresno Council of Governments
X-ORIGINAL-URL:https://www.fresnocog.org
X-WR-CALDESC:Events for Fresno Council of Governments
REFRESH-INTERVAL;VALUE=DURATION:PT1H
X-Robots-Tag:noindex
X-PUBLISHED-TTL:PT1H
BEGIN:VTIMEZONE
TZID:America/Los_Angeles
BEGIN:DAYLIGHT
TZOFFSETFROM:-0800
TZOFFSETTO:-0700
TZNAME:PDT
DTSTART:20230312T100000
END:DAYLIGHT
BEGIN:STANDARD
TZOFFSETFROM:-0700
TZOFFSETTO:-0800
TZNAME:PST
DTSTART:20231105T090000
END:STANDARD
BEGIN:DAYLIGHT
TZOFFSETFROM:-0800
TZOFFSETTO:-0700
TZNAME:PDT
DTSTART:20240310T100000
END:DAYLIGHT
BEGIN:STANDARD
TZOFFSETFROM:-0700
TZOFFSETTO:-0800
TZNAME:PST
DTSTART:20241103T090000
END:STANDARD
BEGIN:DAYLIGHT
TZOFFSETFROM:-0800
TZOFFSETTO:-0700
TZNAME:PDT
DTSTART:20250309T100000
END:DAYLIGHT
BEGIN:STANDARD
TZOFFSETFROM:-0700
TZOFFSETTO:-0800
TZNAME:PST
DTSTART:20251102T090000
END:STANDARD
END:VTIMEZONE
BEGIN:VEVENT
DTSTART;TZID=America/Los_Angeles:20241218T140000
DTEND;TZID=America/Los_Angeles:20241218T153000
DTSTAMP:20260425T162823
CREATED:20241205T220237Z
LAST-MODIFIED:20241205T220237Z
UID:218930-1734530400-1734535800@www.fresnocog.org
SUMMARY:CCAP Steering Committee Meeting
DESCRIPTION:CCAP Stakeholder Steering Committee Wednesday\, December 18th 2-3:30pm. The webinar link is as follows: https://us06web.zoom.us/j/87480910112?pwd=JaIiGNZZJpH6ru2vPKRNmV9uDb0FP3.1
URL:https://www.fresnocog.org/event/ccap-steering-committee-meeting/
LOCATION:Zoom
END:VEVENT
END:VCALENDAR