BEGIN:VCALENDAR
VERSION:2.0
PRODID:-//Fresno Council of Governments - ECPv6.15.20//NONSGML v1.0//EN
CALSCALE:GREGORIAN
METHOD:PUBLISH
X-ORIGINAL-URL:https://www.fresnocog.org
X-WR-CALDESC:Events for Fresno Council of Governments
REFRESH-INTERVAL;VALUE=DURATION:PT1H
X-Robots-Tag:noindex
X-PUBLISHED-TTL:PT1H
BEGIN:VTIMEZONE
TZID:America/Los_Angeles
BEGIN:DAYLIGHT
TZOFFSETFROM:-0800
TZOFFSETTO:-0700
TZNAME:PDT
DTSTART:20240310T100000
END:DAYLIGHT
BEGIN:STANDARD
TZOFFSETFROM:-0700
TZOFFSETTO:-0800
TZNAME:PST
DTSTART:20241103T090000
END:STANDARD
BEGIN:DAYLIGHT
TZOFFSETFROM:-0800
TZOFFSETTO:-0700
TZNAME:PDT
DTSTART:20250309T100000
END:DAYLIGHT
BEGIN:STANDARD
TZOFFSETFROM:-0700
TZOFFSETTO:-0800
TZNAME:PST
DTSTART:20251102T090000
END:STANDARD
BEGIN:DAYLIGHT
TZOFFSETFROM:-0800
TZOFFSETTO:-0700
TZNAME:PDT
DTSTART:20260308T100000
END:DAYLIGHT
BEGIN:STANDARD
TZOFFSETFROM:-0700
TZOFFSETTO:-0800
TZNAME:PST
DTSTART:20261101T090000
END:STANDARD
END:VTIMEZONE
BEGIN:VEVENT
DTSTART;TZID=America/Los_Angeles:20250108T140000
DTEND;TZID=America/Los_Angeles:20250108T153000
DTSTAMP:20260425T205856
CREATED:20241009T061152Z
LAST-MODIFIED:20241217T221651Z
UID:218487-1736344800-1736350200@www.fresnocog.org
SUMMARY:Environmental Justice Subcommittee
DESCRIPTION:The link for the Zoom meeting can be found here: https://us06web.zoom.us/j/88076740633?pwd=8bncrolSQfAPkAy7ospBc4wSs6JbnA.1 \nThe Agenda for the January 8\, 2025\, Environmental Justice Subcommittee can be found here: https://agendas.fresnocog.org/environmental-justice-subcommittee-3/
URL:https://www.fresnocog.org/event/environmental-justice-subcommittee/
LOCATION:Zoom
ORGANIZER;CN="Simran Jhutti":MAILTO:jhutti@fresnocog.org
END:VEVENT
END:VCALENDAR