BEGIN:VCALENDAR
VERSION:2.0
PRODID:-//Fresno Council of Governments - ECPv6.15.20//NONSGML v1.0//EN
CALSCALE:GREGORIAN
METHOD:PUBLISH
X-WR-CALNAME:Fresno Council of Governments
X-ORIGINAL-URL:https://www.fresnocog.org
X-WR-CALDESC:Events for Fresno Council of Governments
REFRESH-INTERVAL;VALUE=DURATION:PT1H
X-Robots-Tag:noindex
X-PUBLISHED-TTL:PT1H
BEGIN:VTIMEZONE
TZID:America/Los_Angeles
BEGIN:DAYLIGHT
TZOFFSETFROM:-0800
TZOFFSETTO:-0700
TZNAME:PDT
DTSTART:20240310T100000
END:DAYLIGHT
BEGIN:STANDARD
TZOFFSETFROM:-0700
TZOFFSETTO:-0800
TZNAME:PST
DTSTART:20241103T090000
END:STANDARD
BEGIN:DAYLIGHT
TZOFFSETFROM:-0800
TZOFFSETTO:-0700
TZNAME:PDT
DTSTART:20250309T100000
END:DAYLIGHT
BEGIN:STANDARD
TZOFFSETFROM:-0700
TZOFFSETTO:-0800
TZNAME:PST
DTSTART:20251102T090000
END:STANDARD
BEGIN:DAYLIGHT
TZOFFSETFROM:-0800
TZOFFSETTO:-0700
TZNAME:PDT
DTSTART:20260308T100000
END:DAYLIGHT
BEGIN:STANDARD
TZOFFSETFROM:-0700
TZOFFSETTO:-0800
TZNAME:PST
DTSTART:20261101T090000
END:STANDARD
END:VTIMEZONE
BEGIN:VEVENT
DTSTART;TZID=America/Los_Angeles:20250117T083000
DTEND;TZID=America/Los_Angeles:20250117T100000
DTSTAMP:20260425T114436
CREATED:20241217T175149Z
LAST-MODIFIED:20241218T164517Z
UID:218990-1737102600-1737108000@www.fresnocog.org
SUMMARY:Transportation Technical Committee
DESCRIPTION:
URL:https://www.fresnocog.org/event/transportation-technical-committee-16/
LOCATION:Fresno Council of Governments\, 2035 Tulare Street\, Ste 201\, Fresno\, CA\, 93721\, United States
ORGANIZER;CN="Denise Flores":MAILTO:dflores@fresnocog.org
END:VEVENT
BEGIN:VEVENT
DTSTART;TZID=America/Los_Angeles:20250117T100000
DTEND;TZID=America/Los_Angeles:20250117T113000
DTSTAMP:20260425T114436
CREATED:20241218T182400Z
LAST-MODIFIED:20241218T182400Z
UID:219221-1737108000-1737113400@www.fresnocog.org
SUMMARY:Policy Advisory Committee
DESCRIPTION:
URL:https://www.fresnocog.org/event/policy-advisory-committee-30/
LOCATION:Fresno Council of Governments\, 2035 Tulare Street\, Ste 201\, Fresno\, CA\, 93721\, United States
ORGANIZER;CN="Denise Flores":MAILTO:dflores@fresnocog.org
END:VEVENT
END:VCALENDAR