BEGIN:VCALENDAR
VERSION:2.0
PRODID:-//Fresno Council of Governments - ECPv6.15.20//NONSGML v1.0//EN
CALSCALE:GREGORIAN
METHOD:PUBLISH
X-ORIGINAL-URL:https://www.fresnocog.org
X-WR-CALDESC:Events for Fresno Council of Governments
REFRESH-INTERVAL;VALUE=DURATION:PT1H
X-Robots-Tag:noindex
X-PUBLISHED-TTL:PT1H
BEGIN:VTIMEZONE
TZID:America/Los_Angeles
BEGIN:DAYLIGHT
TZOFFSETFROM:-0800
TZOFFSETTO:-0700
TZNAME:PDT
DTSTART:20240310T100000
END:DAYLIGHT
BEGIN:STANDARD
TZOFFSETFROM:-0700
TZOFFSETTO:-0800
TZNAME:PST
DTSTART:20241103T090000
END:STANDARD
BEGIN:DAYLIGHT
TZOFFSETFROM:-0800
TZOFFSETTO:-0700
TZNAME:PDT
DTSTART:20250309T100000
END:DAYLIGHT
BEGIN:STANDARD
TZOFFSETFROM:-0700
TZOFFSETTO:-0800
TZNAME:PST
DTSTART:20251102T090000
END:STANDARD
BEGIN:DAYLIGHT
TZOFFSETFROM:-0800
TZOFFSETTO:-0700
TZNAME:PDT
DTSTART:20260308T100000
END:DAYLIGHT
BEGIN:STANDARD
TZOFFSETFROM:-0700
TZOFFSETTO:-0800
TZNAME:PST
DTSTART:20261101T090000
END:STANDARD
END:VTIMEZONE
BEGIN:VEVENT
DTSTART;TZID=America/Los_Angeles:20250612T090000
DTEND;TZID=America/Los_Angeles:20250612T100000
DTSTAMP:20260425T082632
CREATED:20250527T212514Z
LAST-MODIFIED:20250602T170607Z
UID:219896-1749718800-1749722400@www.fresnocog.org
SUMMARY:Fresno City Council Meeting
DESCRIPTION:Fresno COG staff will present the Council with a Measure C Renewal update.
URL:https://www.fresnocog.org/event/fresno-city-council-meeting/
LOCATION:Fresno City Hall\, 2600 Fresno St\, Fresno\, CA\, 93721\, United States
END:VEVENT
BEGIN:VEVENT
DTSTART;TZID=America/Los_Angeles:20250612T150000
DTEND;TZID=America/Los_Angeles:20250612T170000
DTSTAMP:20260425T082632
CREATED:20250527T213146Z
LAST-MODIFIED:20250527T213146Z
UID:219903-1749740400-1749747600@www.fresnocog.org
SUMMARY:Measure C Renewal Steering Committee
DESCRIPTION:Agendas are available at https://agendas.fresnocog.org/category/measurec-renewal-steering-committee/
URL:https://www.fresnocog.org/event/measure-c-renewal-steering-committee/
LOCATION:Zoom
END:VEVENT
BEGIN:VEVENT
DTSTART;TZID=America/Los_Angeles:20250605T170000
DTEND;TZID=America/Los_Angeles:20250605T183000
DTSTAMP:20260425T082632
CREATED:20241217T225051Z
LAST-MODIFIED:20250602T171028Z
UID:219128-1749142800-1749148200@www.fresnocog.org
SUMMARY:Measure C Citizen Oversight Committee (COC) Meeting
DESCRIPTION:
URL:https://www.fresnocog.org/event/measure-c-citizen-oversight-committee-coc-meeting-9/
LOCATION:Fresno Council of Governments\, 2035 Tulare Street\, Ste 201\, Fresno\, CA\, 93721\, United States
ORGANIZER;CN="Jake Martinez":MAILTO:jmartinez@fresnocog.org
END:VEVENT
END:VCALENDAR