BEGIN:VCALENDAR
VERSION:2.0
PRODID:-//Fresno Council of Governments - ECPv6.15.20//NONSGML v1.0//EN
CALSCALE:GREGORIAN
METHOD:PUBLISH
X-WR-CALNAME:Fresno Council of Governments
X-ORIGINAL-URL:https://www.fresnocog.org
X-WR-CALDESC:Events for Fresno Council of Governments
REFRESH-INTERVAL;VALUE=DURATION:PT1H
X-Robots-Tag:noindex
X-PUBLISHED-TTL:PT1H
BEGIN:VTIMEZONE
TZID:America/Los_Angeles
BEGIN:DAYLIGHT
TZOFFSETFROM:-0800
TZOFFSETTO:-0700
TZNAME:PDT
DTSTART:20240310T100000
END:DAYLIGHT
BEGIN:STANDARD
TZOFFSETFROM:-0700
TZOFFSETTO:-0800
TZNAME:PST
DTSTART:20241103T090000
END:STANDARD
BEGIN:DAYLIGHT
TZOFFSETFROM:-0800
TZOFFSETTO:-0700
TZNAME:PDT
DTSTART:20250309T100000
END:DAYLIGHT
BEGIN:STANDARD
TZOFFSETFROM:-0700
TZOFFSETTO:-0800
TZNAME:PST
DTSTART:20251102T090000
END:STANDARD
BEGIN:DAYLIGHT
TZOFFSETFROM:-0800
TZOFFSETTO:-0700
TZNAME:PDT
DTSTART:20260308T100000
END:DAYLIGHT
BEGIN:STANDARD
TZOFFSETFROM:-0700
TZOFFSETTO:-0800
TZNAME:PST
DTSTART:20261101T090000
END:STANDARD
END:VTIMEZONE
BEGIN:VEVENT
DTSTART;VALUE=DATE:20250619
DTEND;VALUE=DATE:20250620
DTSTAMP:20260425T082630
CREATED:20241218T174841Z
LAST-MODIFIED:20241218T174841Z
UID:219185-1750291200-1750377599@www.fresnocog.org
SUMMARY:Holiday - COG Office Closed
DESCRIPTION:Office closed in observance of Juneteenth.
URL:https://www.fresnocog.org/event/holiday-cog-office-closed-10/
END:VEVENT
BEGIN:VEVENT
DTSTART;TZID=America/Los_Angeles:20250619T183000
DTEND;TZID=America/Los_Angeles:20250619T193000
DTSTAMP:20260425T082630
CREATED:20250527T213558Z
LAST-MODIFIED:20250602T170703Z
UID:219908-1750357800-1750361400@www.fresnocog.org
SUMMARY:Parlier City Council Meeting
DESCRIPTION:Fresno COG staff will present the Council with a Measure C Renewal update.
URL:https://www.fresnocog.org/event/parlier-city-council-meeting/
LOCATION:Parlier City Hall\, 1100 E Parlier Ave\, Parlier\, CA\, 93648\, United States
END:VEVENT
END:VCALENDAR