BEGIN:VCALENDAR
VERSION:2.0
PRODID:-//Fresno Council of Governments - ECPv6.15.20//NONSGML v1.0//EN
CALSCALE:GREGORIAN
METHOD:PUBLISH
X-WR-CALNAME:Fresno Council of Governments
X-ORIGINAL-URL:https://www.fresnocog.org
X-WR-CALDESC:Events for Fresno Council of Governments
REFRESH-INTERVAL;VALUE=DURATION:PT1H
X-Robots-Tag:noindex
X-PUBLISHED-TTL:PT1H
BEGIN:VTIMEZONE
TZID:America/Los_Angeles
BEGIN:DAYLIGHT
TZOFFSETFROM:-0800
TZOFFSETTO:-0700
TZNAME:PDT
DTSTART:20240310T100000
END:DAYLIGHT
BEGIN:STANDARD
TZOFFSETFROM:-0700
TZOFFSETTO:-0800
TZNAME:PST
DTSTART:20241103T090000
END:STANDARD
BEGIN:DAYLIGHT
TZOFFSETFROM:-0800
TZOFFSETTO:-0700
TZNAME:PDT
DTSTART:20250309T100000
END:DAYLIGHT
BEGIN:STANDARD
TZOFFSETFROM:-0700
TZOFFSETTO:-0800
TZNAME:PST
DTSTART:20251102T090000
END:STANDARD
BEGIN:DAYLIGHT
TZOFFSETFROM:-0800
TZOFFSETTO:-0700
TZNAME:PDT
DTSTART:20260308T100000
END:DAYLIGHT
BEGIN:STANDARD
TZOFFSETFROM:-0700
TZOFFSETTO:-0800
TZNAME:PST
DTSTART:20261101T090000
END:STANDARD
END:VTIMEZONE
BEGIN:VEVENT
DTSTART;TZID=America/Los_Angeles:20250715T133000
DTEND;TZID=America/Los_Angeles:20250715T150000
DTSTAMP:20260425T082630
CREATED:20241218T182455Z
LAST-MODIFIED:20250314T203538Z
UID:219223-1752586200-1752591600@www.fresnocog.org
SUMMARY:Social Services Transportation Advisory Council (SSTAC) Meeting
DESCRIPTION:
URL:https://www.fresnocog.org/event/social-services-transit-advisory-council-sstac-meeting-11/
LOCATION:Fresno Council of Governments\, 2035 Tulare Street\, Ste 201\, Fresno\, CA\, 93721\, United States
ORGANIZER;CN="Denise Flores":MAILTO:dflores@fresnocog.org
END:VEVENT
BEGIN:VEVENT
DTSTART;TZID=America/Los_Angeles:20250715T180000
DTEND;TZID=America/Los_Angeles:20250715T193000
DTSTAMP:20260425T082630
CREATED:20250527T204811Z
LAST-MODIFIED:20250527T204811Z
UID:219854-1752602400-1752607800@www.fresnocog.org
SUMMARY:Clovis Measure C Renewal Community Workshop
DESCRIPTION:
URL:https://www.fresnocog.org/event/clovis-measure-c-renewal-community-workshop/
LOCATION:Clovis Transit Center\, 785 3rd St\, Clovis\, CA\, 93612\, United States
END:VEVENT
END:VCALENDAR