BEGIN:VCALENDAR
VERSION:2.0
PRODID:-//Fresno Council of Governments - ECPv6.15.20//NONSGML v1.0//EN
CALSCALE:GREGORIAN
METHOD:PUBLISH
X-ORIGINAL-URL:https://www.fresnocog.org
X-WR-CALDESC:Events for Fresno Council of Governments
REFRESH-INTERVAL;VALUE=DURATION:PT1H
X-Robots-Tag:noindex
X-PUBLISHED-TTL:PT1H
BEGIN:VTIMEZONE
TZID:America/Los_Angeles
BEGIN:DAYLIGHT
TZOFFSETFROM:-0800
TZOFFSETTO:-0700
TZNAME:PDT
DTSTART:20240310T100000
END:DAYLIGHT
BEGIN:STANDARD
TZOFFSETFROM:-0700
TZOFFSETTO:-0800
TZNAME:PST
DTSTART:20241103T090000
END:STANDARD
BEGIN:DAYLIGHT
TZOFFSETFROM:-0800
TZOFFSETTO:-0700
TZNAME:PDT
DTSTART:20250309T100000
END:DAYLIGHT
BEGIN:STANDARD
TZOFFSETFROM:-0700
TZOFFSETTO:-0800
TZNAME:PST
DTSTART:20251102T090000
END:STANDARD
BEGIN:DAYLIGHT
TZOFFSETFROM:-0800
TZOFFSETTO:-0700
TZNAME:PDT
DTSTART:20260308T100000
END:DAYLIGHT
BEGIN:STANDARD
TZOFFSETFROM:-0700
TZOFFSETTO:-0800
TZNAME:PST
DTSTART:20261101T090000
END:STANDARD
END:VTIMEZONE
BEGIN:VEVENT
DTSTART;TZID=America/Los_Angeles:20250805T180000
DTEND;TZID=America/Los_Angeles:20250805T193000
DTSTAMP:20260425T041655
CREATED:20250724T234540Z
LAST-MODIFIED:20250724T234540Z
UID:220069-1754416800-1754422200@www.fresnocog.org
SUMMARY:Southeast Fresno Measure C Renewal Community Workshop
DESCRIPTION:This workshop will be held at Sunnyside Regional Library\, 5566 E Kings Canyon Rd. Fresno\, CA\nRSVP for this workshop: \nEmail:  measurec2026@publicinput.com\nVoicemail:  855-925-2801\, enter code 10658 when prompted\, then leave a voicemail for staff. \nTAKE the Measure C Renewal\, one-question survey NOW! Click here
URL:https://www.fresnocog.org/event/southeast-fresno-measure-c-renewal-community-workshop/
END:VEVENT
END:VCALENDAR