BEGIN:VCALENDAR
VERSION:2.0
PRODID:-//Fresno Council of Governments - ECPv6.15.20//NONSGML v1.0//EN
CALSCALE:GREGORIAN
METHOD:PUBLISH
X-WR-CALNAME:Fresno Council of Governments
X-ORIGINAL-URL:https://www.fresnocog.org
X-WR-CALDESC:Events for Fresno Council of Governments
REFRESH-INTERVAL;VALUE=DURATION:PT1H
X-Robots-Tag:noindex
X-PUBLISHED-TTL:PT1H
BEGIN:VTIMEZONE
TZID:America/Los_Angeles
BEGIN:DAYLIGHT
TZOFFSETFROM:-0800
TZOFFSETTO:-0700
TZNAME:PDT
DTSTART:20240310T100000
END:DAYLIGHT
BEGIN:STANDARD
TZOFFSETFROM:-0700
TZOFFSETTO:-0800
TZNAME:PST
DTSTART:20241103T090000
END:STANDARD
BEGIN:DAYLIGHT
TZOFFSETFROM:-0800
TZOFFSETTO:-0700
TZNAME:PDT
DTSTART:20250309T100000
END:DAYLIGHT
BEGIN:STANDARD
TZOFFSETFROM:-0700
TZOFFSETTO:-0800
TZNAME:PST
DTSTART:20251102T090000
END:STANDARD
BEGIN:DAYLIGHT
TZOFFSETFROM:-0800
TZOFFSETTO:-0700
TZNAME:PDT
DTSTART:20260308T100000
END:DAYLIGHT
BEGIN:STANDARD
TZOFFSETFROM:-0700
TZOFFSETTO:-0800
TZNAME:PST
DTSTART:20261101T090000
END:STANDARD
END:VTIMEZONE
BEGIN:VEVENT
DTSTART;TZID=America/Los_Angeles:20251118T120000
DTEND;TZID=America/Los_Angeles:20251118T133000
DTSTAMP:20260424T210905
CREATED:20251030T205643Z
LAST-MODIFIED:20251030T210336Z
UID:220504-1763467200-1763472600@www.fresnocog.org
SUMMARY:Virtual Public Workshop for Extreme Heat Analysis and Shade Adaptation Plan
DESCRIPTION:Supported by community input\, Fresno COG is developing guidance on a regional approach to increase vegetation and shade projects for key transportation corridors in Fresno County\, particularly where pedestrians\, bicyclists\, and transit riders are directly affected. \nJOIN US FOR A PUBLIC WORKSHOP!\nA virtual workshop is scheduled for Tuesday\, November 18\, 2025\, from 12 noon to 1:30 p.m.\, which will include interactive activities to gain valuable input. Scan the QR Code or visit http://bit.ly/435DgVM to register for the virtual workshop. After registering\, a Zoom link will be sent for participation. \nWhat will be covered at the Extreme Heat virtual workshop?\n• Project summary to date\n• Input received from previous public outreach activities\n• A Vulnerability Analysis\n• Pedestrian and bicyclist traffic analysis and location analysis\n• Input on tree canopy and vegetative cover projects\n• Discussion on Vulnerability Analysis and categories for site selection \nA draft plan will be posted for review in early 2026 on the project website at\nFresno County Extreme Heat Analysis and Shade Adaptation Plan. \nQuestions? \nPlease contact Matthew Shimizu at mshimizu@fresnocog.org or 559-223-4148 Ext. 240 \nEnglish Flyer \nFolleto Español
URL:https://www.fresnocog.org/event/virtual-public-workshop-for-extreme-heat-analysis-and-shade-adaptation-plan/
LOCATION:Zoom
END:VEVENT
END:VCALENDAR