BEGIN:VCALENDAR
VERSION:2.0
PRODID:-//Fresno Council of Governments - ECPv6.15.20//NONSGML v1.0//EN
CALSCALE:GREGORIAN
METHOD:PUBLISH
X-WR-CALNAME:Fresno Council of Governments
X-ORIGINAL-URL:https://www.fresnocog.org
X-WR-CALDESC:Events for Fresno Council of Governments
REFRESH-INTERVAL;VALUE=DURATION:PT1H
X-Robots-Tag:noindex
X-PUBLISHED-TTL:PT1H
BEGIN:VTIMEZONE
TZID:America/Los_Angeles
BEGIN:DAYLIGHT
TZOFFSETFROM:-0800
TZOFFSETTO:-0700
TZNAME:PDT
DTSTART:20160313T100000
END:DAYLIGHT
BEGIN:STANDARD
TZOFFSETFROM:-0700
TZOFFSETTO:-0800
TZNAME:PST
DTSTART:20161106T090000
END:STANDARD
BEGIN:DAYLIGHT
TZOFFSETFROM:-0800
TZOFFSETTO:-0700
TZNAME:PDT
DTSTART:20170312T100000
END:DAYLIGHT
BEGIN:STANDARD
TZOFFSETFROM:-0700
TZOFFSETTO:-0800
TZNAME:PST
DTSTART:20171105T090000
END:STANDARD
BEGIN:DAYLIGHT
TZOFFSETFROM:-0800
TZOFFSETTO:-0700
TZNAME:PDT
DTSTART:20180311T100000
END:DAYLIGHT
BEGIN:STANDARD
TZOFFSETFROM:-0700
TZOFFSETTO:-0800
TZNAME:PST
DTSTART:20181104T090000
END:STANDARD
BEGIN:DAYLIGHT
TZOFFSETFROM:-0800
TZOFFSETTO:-0700
TZNAME:PDT
DTSTART:20190310T100000
END:DAYLIGHT
BEGIN:STANDARD
TZOFFSETFROM:-0700
TZOFFSETTO:-0800
TZNAME:PST
DTSTART:20191103T090000
END:STANDARD
END:VTIMEZONE
BEGIN:VEVENT
DTSTART;TZID=America/Los_Angeles:20180130T160000
DTEND;TZID=America/Los_Angeles:20180130T180000
DTSTAMP:20260419T192627
CREATED:20180119T013535Z
LAST-MODIFIED:20180119T013535Z
UID:216914-1517328000-1517335200@www.fresnocog.org
SUMMARY:Public Workshops on Senate Bill 375 Sustainable Communities Program Regional Greenhouse Gas Reduction Targets Update and Program Performance Reporting
DESCRIPTION:The California Air Resources Board (CARB) invites you to participate in workshops on the Senate Bill 375 (SB 375) Sustainable Communities and Climate Protection program and proposed updates to regional passenger vehicle greenhouse gas emissions reduction targets for California’s Metropolitan Planning Organizations (MPO).  At the workshops\, CARB staff will present revisions to its October 2017 Staff Report\, share feedback received at the December 2017 Board Meeting\, present initial concepts for updates to the technical methodology for Sustainable Communities Strategy evaluation and guidance on quantification of strategies\, and seek public input on next steps with interested stakeholders. CARB staff will also initially scope and seek public input on data supported metrics for reporting in its first SB 375 program performance report to the Legislature by September 1\, 2018\, pursuant to SB 150 (Allen\, Chapter 646\, Statutes of 2017).
URL:https://www.fresnocog.org/event/public-workshops-senate-bill-375-sustainable-communities-program-regional-greenhouse-gas-reduction-targets-update-program-performance-reporting-2/
END:VEVENT
BEGIN:VEVENT
DTSTART;TZID=America/Los_Angeles:20180130T160000
DTEND;TZID=America/Los_Angeles:20180130T180000
DTSTAMP:20260419T192627
CREATED:20180119T013535Z
LAST-MODIFIED:20180119T013535Z
UID:17127-1517328000-1517335200@www.fresnocog.org
SUMMARY:Public Workshops on Senate Bill 375 Sustainable Communities Program Regional Greenhouse Gas Reduction Targets Update and Program Performance Reporting
DESCRIPTION:The California Air Resources Board (CARB) invites you to participate in workshops on the Senate Bill 375 (SB 375) Sustainable Communities and Climate Protection program and proposed updates to regional passenger vehicle greenhouse gas emissions reduction targets for California’s Metropolitan Planning Organizations (MPO).  At the workshops\, CARB staff will present revisions to its October 2017 Staff Report\, share feedback received at the December 2017 Board Meeting\, present initial concepts for updates to the technical methodology for Sustainable Communities Strategy evaluation and guidance on quantification of strategies\, and seek public input on next steps with interested stakeholders. CARB staff will also initially scope and seek public input on data supported metrics for reporting in its first SB 375 program performance report to the Legislature by September 1\, 2018\, pursuant to SB 150 (Allen\, Chapter 646\, Statutes of 2017).
URL:https://www.fresnocog.org/event/public-workshops-senate-bill-375-sustainable-communities-program-regional-greenhouse-gas-reduction-targets-update-program-performance-reporting/
END:VEVENT
BEGIN:VEVENT
DTSTART;TZID=America/Los_Angeles:20180125T160000
DTEND;TZID=America/Los_Angeles:20180125T170000
DTSTAMP:20260419T192627
CREATED:20180119T013254Z
LAST-MODIFIED:20180119T013254Z
UID:17125-1516896000-1516899600@www.fresnocog.org
SUMMARY:Center for Sustainable Energy and SJVAPCD Plug-in EV test drive and presentation
DESCRIPTION:VALLEY TAKES CHARGE! PLUG-IN ELECTRIC VEHICLE TEST DRIVE AND PRESENTATION \nValley Takes Charge! is a program promoting plug-in electric vehicles (PEVs) in the San Joaquin Valley that empowers local governments and their constituents to adopt greater numbers of clean cars and help reduce transportation emissions. \n  \nThe San Joaquin Valley Air Pollution Control District\, with the assistance of the Center for Sustainable Energy\, launched Valley Takes Charge! to implement best practices for PEV adoption. It calls for innovative strategies to make PEVs and vehicle charging affordable and accessible for the majority of Valley residents\, including people living in disadvantaged communities. \n  \nValley Takes Charge! supports local governments by providing specialized training and toolkits to help cities and counties become PEV ready\, training for local electricians on charging station equipment installation and raising awareness of cleaner vehicles and knowledge of their benefits among car buyers\, government officials and vehicle fleet decision-makers. \n  \nJoin us from 4:00-5:00pm for a plug-in electric vehicle test-drive at the Fresno COG office. A presentation from the Center for Sustainable Energy will be held from 5:00-5:15pm to discuss the Valley Takes Charge! program and some electric vehicle resources for local governments. Signage from the Fresno COG entrance on Tulare Street will direct you to the location of the test drive.
URL:https://www.fresnocog.org/event/center-sustainable-energy-sjvapcd-plug-ev-test-drive-presentation/
END:VEVENT
BEGIN:VEVENT
DTSTART;TZID=America/Los_Angeles:20180119T100000
DTEND;TZID=America/Los_Angeles:20180119T120000
DTSTAMP:20260419T192627
CREATED:20180119T012708Z
LAST-MODIFIED:20180119T012708Z
UID:17121-1516356000-1516363200@www.fresnocog.org
SUMMARY:One Voice Steering Committee Meeting
DESCRIPTION:Location:  Fresno COG Ash Conference Room \nCall in:  1-888-398-2342 \nParticipant Code: 740166 \n 
URL:https://www.fresnocog.org/event/one-voice-steering-committee-meeting/
END:VEVENT
BEGIN:VEVENT
DTSTART;TZID=America/Los_Angeles:20180119T100000
DTEND;TZID=America/Los_Angeles:20180119T120000
DTSTAMP:20260419T192627
CREATED:20180119T012708Z
LAST-MODIFIED:20180119T012708Z
UID:216912-1516356000-1516363200@www.fresnocog.org
SUMMARY:One Voice Steering Committee Meeting
DESCRIPTION:Location:  Fresno COG Ash Conference Room \nCall in:  1-888-398-2342 \nParticipant Code: 740166 \n 
URL:https://www.fresnocog.org/event/one-voice-steering-committee-meeting-2/
END:VEVENT
BEGIN:VEVENT
DTSTART;TZID=America/Los_Angeles:20180116T133000
DTEND;TZID=America/Los_Angeles:20180116T150000
DTSTAMP:20260419T192627
CREATED:20180108T195739Z
LAST-MODIFIED:20180108T195739Z
UID:17025-1516109400-1516114800@www.fresnocog.org
SUMMARY:Social Services Transit Advisory Council
DESCRIPTION:
URL:https://www.fresnocog.org/event/social-services-transit-advisory-council/
END:VEVENT
BEGIN:VEVENT
DTSTART;TZID=America/Los_Angeles:20180116T133000
DTEND;TZID=America/Los_Angeles:20180116T150000
DTSTAMP:20260419T192627
CREATED:20180108T195739Z
LAST-MODIFIED:20180108T195739Z
UID:216904-1516109400-1516114800@www.fresnocog.org
SUMMARY:Social Services Transit Advisory Council
DESCRIPTION:
URL:https://www.fresnocog.org/event/social-services-transit-advisory-council-4/
END:VEVENT
BEGIN:VEVENT
DTSTART;VALUE=DATE:20180115
DTEND;VALUE=DATE:20180116
DTSTAMP:20260419T192627
CREATED:20171219T225832Z
LAST-MODIFIED:20171219T225832Z
UID:16921-1515974400-1516060799@www.fresnocog.org
SUMMARY:Office Closed - Martin Luther King Jr. Birthday
DESCRIPTION:
URL:https://www.fresnocog.org/event/office-closed-martin-luther-king-jr-birthday/
END:VEVENT
BEGIN:VEVENT
DTSTART;VALUE=DATE:20180115
DTEND;VALUE=DATE:20180116
DTSTAMP:20260419T192627
CREATED:20171219T225832Z
LAST-MODIFIED:20171219T225832Z
UID:216882-1515974400-1516060799@www.fresnocog.org
SUMMARY:Office Closed - Martin Luther King Jr. Birthday
DESCRIPTION:
URL:https://www.fresnocog.org/event/office-closed-martin-luther-king-jr-birthday-2/
END:VEVENT
BEGIN:VEVENT
DTSTART;TZID=America/Los_Angeles:20180112T100000
DTEND;TZID=America/Los_Angeles:20180112T120000
DTSTAMP:20260419T192627
CREATED:20171220T002333Z
LAST-MODIFIED:20171220T002333Z
UID:16963-1515751200-1515758400@www.fresnocog.org
SUMMARY:Policy Advisory Committee
DESCRIPTION:
URL:https://www.fresnocog.org/event/policy-advisory-committee-2/
END:VEVENT
BEGIN:VEVENT
DTSTART;TZID=America/Los_Angeles:20180112T100000
DTEND;TZID=America/Los_Angeles:20180112T120000
DTSTAMP:20260419T192627
CREATED:20171220T002333Z
LAST-MODIFIED:20171220T002333Z
UID:216898-1515751200-1515758400@www.fresnocog.org
SUMMARY:Policy Advisory Committee
DESCRIPTION:
URL:https://www.fresnocog.org/event/policy-advisory-committee-2-2/
END:VEVENT
BEGIN:VEVENT
DTSTART;TZID=America/Los_Angeles:20180112T083000
DTEND;TZID=America/Los_Angeles:20180112T100000
DTSTAMP:20260419T192627
CREATED:20180108T195327Z
LAST-MODIFIED:20180108T195327Z
UID:216902-1515745800-1515751200@www.fresnocog.org
SUMMARY:Transportation Technical Committee
DESCRIPTION:
URL:https://www.fresnocog.org/event/transportation-technical-committee-2-2/
CATEGORIES:Committees
END:VEVENT
BEGIN:VEVENT
DTSTART;TZID=America/Los_Angeles:20180112T083000
DTEND;TZID=America/Los_Angeles:20180112T100000
DTSTAMP:20260419T192627
CREATED:20180108T195327Z
LAST-MODIFIED:20180108T195327Z
UID:17013-1515745800-1515751200@www.fresnocog.org
SUMMARY:Transportation Technical Committee
DESCRIPTION:
URL:https://www.fresnocog.org/event/transportation-technical-committee-2/
CATEGORIES:Committees
END:VEVENT
BEGIN:VEVENT
DTSTART;TZID=America/Los_Angeles:20180111T170000
DTEND;TZID=America/Los_Angeles:20180111T190000
DTSTAMP:20260419T192627
CREATED:20180108T200024Z
LAST-MODIFIED:20180108T200024Z
UID:17037-1515690000-1515697200@www.fresnocog.org
SUMMARY:Measure C Citizens Oversight Committee
DESCRIPTION:
URL:https://www.fresnocog.org/event/measure-c-citizens-oversight-committee/
END:VEVENT
BEGIN:VEVENT
DTSTART;TZID=America/Los_Angeles:20180111T170000
DTEND;TZID=America/Los_Angeles:20180111T190000
DTSTAMP:20260419T192627
CREATED:20180108T200024Z
LAST-MODIFIED:20180108T200024Z
UID:216906-1515690000-1515697200@www.fresnocog.org
SUMMARY:Measure C Citizens Oversight Committee
DESCRIPTION:
URL:https://www.fresnocog.org/event/measure-c-citizens-oversight-committee-3/
END:VEVENT
BEGIN:VEVENT
DTSTART;TZID=America/Los_Angeles:20180103T140000
DTEND;TZID=America/Los_Angeles:20180103T160000
DTSTAMP:20260419T192627
CREATED:20171227T181100Z
LAST-MODIFIED:20171227T181100Z
UID:16999-1514988000-1514995200@www.fresnocog.org
SUMMARY:Regional Sustainable Infrastructure Planning Program Workshop
DESCRIPTION:Join us for the next workshop as we continue to develop the Regional Sustainable Infrastructure Planning Program. \n  \nAgenda and meeting materials will be provided prior to the meeting.
URL:https://www.fresnocog.org/event/regional-sustainable-infrastructure-planning-program-workshop/
END:VEVENT
BEGIN:VEVENT
DTSTART;TZID=America/Los_Angeles:20180103T140000
DTEND;TZID=America/Los_Angeles:20180103T160000
DTSTAMP:20260419T192627
CREATED:20171227T181100Z
LAST-MODIFIED:20171227T181100Z
UID:216900-1514988000-1514995200@www.fresnocog.org
SUMMARY:Regional Sustainable Infrastructure Planning Program Workshop
DESCRIPTION:Join us for the next workshop as we continue to develop the Regional Sustainable Infrastructure Planning Program. \n  \nAgenda and meeting materials will be provided prior to the meeting.
URL:https://www.fresnocog.org/event/regional-sustainable-infrastructure-planning-program-workshop-2/
END:VEVENT
BEGIN:VEVENT
DTSTART;VALUE=DATE:20180101
DTEND;VALUE=DATE:20180102
DTSTAMP:20260419T192628
CREATED:20171219T225635Z
LAST-MODIFIED:20171219T225635Z
UID:16919-1514764800-1514851199@www.fresnocog.org
SUMMARY:Office Closed - New Year's Day
DESCRIPTION:
URL:https://www.fresnocog.org/event/office-closed-new-years-day/
END:VEVENT
BEGIN:VEVENT
DTSTART;VALUE=DATE:20180101
DTEND;VALUE=DATE:20180102
DTSTAMP:20260419T192628
CREATED:20171219T225635Z
LAST-MODIFIED:20171219T225635Z
UID:216881-1514764800-1514851199@www.fresnocog.org
SUMMARY:Office Closed - New Year's Day
DESCRIPTION:
URL:https://www.fresnocog.org/event/office-closed-new-years-day-4/
END:VEVENT
BEGIN:VEVENT
DTSTART;TZID=America/Los_Angeles:20170925T150000
DTEND;TZID=America/Los_Angeles:20170925T160000
DTSTAMP:20260419T192628
CREATED:20170925T220000Z
LAST-MODIFIED:20170925T220000Z
UID:14024-1506351600-1506355200@www.fresnocog.org
SUMMARY:Association for the Beautification of Hwy 99
DESCRIPTION:
URL:https://www.fresnocog.org/event/association-beautification-hwy-99/
CATEGORIES:Special Groups
END:VEVENT
BEGIN:VEVENT
DTSTART;TZID=America/Los_Angeles:20170925T150000
DTEND;TZID=America/Los_Angeles:20170925T160000
DTSTAMP:20260419T192628
CREATED:20170925T220000Z
LAST-MODIFIED:20170925T220000Z
UID:216877-1506351600-1506355200@www.fresnocog.org
SUMMARY:Association for the Beautification of Hwy 99
DESCRIPTION:
URL:https://www.fresnocog.org/event/association-beautification-hwy-99-2/
CATEGORIES:Special Groups
END:VEVENT
BEGIN:VEVENT
DTSTART;TZID=America/Los_Angeles:20170919T133000
DTEND;TZID=America/Los_Angeles:20170919T143000
DTSTAMP:20260419T192628
CREATED:20170919T203000Z
LAST-MODIFIED:20170919T203000Z
UID:14021-1505827800-1505831400@www.fresnocog.org
SUMMARY:SSTAC
DESCRIPTION:SOCIAL SERVICES TRANSPORTATION ADVISORY COUNCIL
URL:https://www.fresnocog.org/event/sstac/
CATEGORIES:Special Groups
END:VEVENT
BEGIN:VEVENT
DTSTART;TZID=America/Los_Angeles:20170919T133000
DTEND;TZID=America/Los_Angeles:20170919T143000
DTSTAMP:20260419T192628
CREATED:20170919T203000Z
LAST-MODIFIED:20170919T203000Z
UID:216876-1505827800-1505831400@www.fresnocog.org
SUMMARY:SSTAC
DESCRIPTION:SOCIAL SERVICES TRANSPORTATION ADVISORY COUNCIL
URL:https://www.fresnocog.org/event/sstac-2/
CATEGORIES:Special Groups
END:VEVENT
BEGIN:VEVENT
DTSTART;VALUE=DATE:20170904
DTEND;VALUE=DATE:20170905
DTSTAMP:20260419T192628
CREATED:20170904T070000Z
LAST-MODIFIED:20170904T070000Z
UID:14043-1504483200-1504569599@www.fresnocog.org
SUMMARY:HOLIDAY - Offices Closed
DESCRIPTION:
URL:https://www.fresnocog.org/event/holiday-offices-closed/
CATEGORIES:Holiday
END:VEVENT
BEGIN:VEVENT
DTSTART;VALUE=DATE:20170904
DTEND;VALUE=DATE:20170905
DTSTAMP:20260419T192628
CREATED:20170904T070000Z
LAST-MODIFIED:20170904T070000Z
UID:216880-1504483200-1504569599@www.fresnocog.org
SUMMARY:HOLIDAY - Offices Closed
DESCRIPTION:
URL:https://www.fresnocog.org/event/holiday-offices-closed-2/
CATEGORIES:Holiday
END:VEVENT
BEGIN:VEVENT
DTSTART;TZID=America/Los_Angeles:20170811T100000
DTEND;TZID=America/Los_Angeles:20170811T110000
DTSTAMP:20260419T192628
CREATED:20170811T170000Z
LAST-MODIFIED:20170811T170000Z
UID:14015-1502445600-1502449200@www.fresnocog.org
SUMMARY:Policy Advisory Committee
DESCRIPTION:
URL:https://www.fresnocog.org/event/policy-advisory-committee/
CATEGORIES:Committees
END:VEVENT
BEGIN:VEVENT
DTSTART;TZID=America/Los_Angeles:20170811T100000
DTEND;TZID=America/Los_Angeles:20170811T110000
DTSTAMP:20260419T192628
CREATED:20170811T170000Z
LAST-MODIFIED:20170811T170000Z
UID:216875-1502445600-1502449200@www.fresnocog.org
SUMMARY:Policy Advisory Committee
DESCRIPTION:
URL:https://www.fresnocog.org/event/policy-advisory-committee-16/
CATEGORIES:Committees
END:VEVENT
BEGIN:VEVENT
DTSTART;TZID=America/Los_Angeles:20170810T170000
DTEND;TZID=America/Los_Angeles:20170810T190000
DTSTAMP:20260419T192628
CREATED:20170811T000000Z
LAST-MODIFIED:20170811T000000Z
UID:216879-1502384400-1502391600@www.fresnocog.org
SUMMARY:Measure C Citizen Oversight Committee
DESCRIPTION:
URL:https://www.fresnocog.org/event/measure-c-citizen-oversight-committee-13/
CATEGORIES:Committees
END:VEVENT
BEGIN:VEVENT
DTSTART;TZID=America/Los_Angeles:20170810T170000
DTEND;TZID=America/Los_Angeles:20170810T190000
DTSTAMP:20260419T192628
CREATED:20170811T000000Z
LAST-MODIFIED:20170811T000000Z
UID:14037-1502384400-1502391600@www.fresnocog.org
SUMMARY:Measure C Citizen Oversight Committee
DESCRIPTION:
URL:https://www.fresnocog.org/event/measure-c-citizen-oversight-committee/
CATEGORIES:Committees
END:VEVENT
BEGIN:VEVENT
DTSTART;TZID=America/Los_Angeles:20170807T140000
DTEND;TZID=America/Los_Angeles:20170807T150000
DTSTAMP:20260419T192628
CREATED:20170807T210000Z
LAST-MODIFIED:20170807T210000Z
UID:14027-1502114400-1502118000@www.fresnocog.org
SUMMARY:Airport Land Use Commission
DESCRIPTION:
URL:https://www.fresnocog.org/event/airport-land-use-commission/
CATEGORIES:Special Groups
END:VEVENT
END:VCALENDAR