BEGIN:VCALENDAR
VERSION:2.0
PRODID:-//Fresno Council of Governments - ECPv6.15.20//NONSGML v1.0//EN
CALSCALE:GREGORIAN
METHOD:PUBLISH
X-WR-CALNAME:Fresno Council of Governments
X-ORIGINAL-URL:https://www.fresnocog.org
X-WR-CALDESC:Events for Fresno Council of Governments
REFRESH-INTERVAL;VALUE=DURATION:PT1H
X-Robots-Tag:noindex
X-PUBLISHED-TTL:PT1H
BEGIN:VTIMEZONE
TZID:America/Los_Angeles
BEGIN:DAYLIGHT
TZOFFSETFROM:-0800
TZOFFSETTO:-0700
TZNAME:PDT
DTSTART:20160313T100000
END:DAYLIGHT
BEGIN:STANDARD
TZOFFSETFROM:-0700
TZOFFSETTO:-0800
TZNAME:PST
DTSTART:20161106T090000
END:STANDARD
BEGIN:DAYLIGHT
TZOFFSETFROM:-0800
TZOFFSETTO:-0700
TZNAME:PDT
DTSTART:20170312T100000
END:DAYLIGHT
BEGIN:STANDARD
TZOFFSETFROM:-0700
TZOFFSETTO:-0800
TZNAME:PST
DTSTART:20171105T090000
END:STANDARD
BEGIN:DAYLIGHT
TZOFFSETFROM:-0800
TZOFFSETTO:-0700
TZNAME:PDT
DTSTART:20180311T100000
END:DAYLIGHT
BEGIN:STANDARD
TZOFFSETFROM:-0700
TZOFFSETTO:-0800
TZNAME:PST
DTSTART:20181104T090000
END:STANDARD
END:VTIMEZONE
BEGIN:VEVENT
DTSTART;TZID=America/Los_Angeles:20170126T173000
DTEND;TZID=America/Los_Angeles:20170126T193000
DTSTAMP:20260420T205341
CREATED:20170127T013000Z
LAST-MODIFIED:20170127T013000Z
UID:13992-1485451800-1485459000@www.fresnocog.org
SUMMARY:Policy Board Meeting
DESCRIPTION:
URL:https://www.fresnocog.org/event/policy-board-meeting/
CATEGORIES:Policy Board
END:VEVENT
BEGIN:VEVENT
DTSTART;TZID=America/Los_Angeles:20170113T083000
DTEND;TZID=America/Los_Angeles:20170113T093000
DTSTAMP:20260420T205341
CREATED:20170113T163000Z
LAST-MODIFIED:20170113T163000Z
UID:14004-1484296200-1484299800@www.fresnocog.org
SUMMARY:Transportation Technical Committee
DESCRIPTION:
URL:https://www.fresnocog.org/event/transportation-technical-committee/
CATEGORIES:Committees
END:VEVENT
BEGIN:VEVENT
DTSTART;TZID=America/Los_Angeles:20170113T083000
DTEND;TZID=America/Los_Angeles:20170113T093000
DTSTAMP:20260420T205341
CREATED:20170113T163000Z
LAST-MODIFIED:20170113T163000Z
UID:216874-1484296200-1484299800@www.fresnocog.org
SUMMARY:Transportation Technical Committee
DESCRIPTION:
URL:https://www.fresnocog.org/event/transportation-technical-committee-12/
CATEGORIES:Committees
END:VEVENT
END:VCALENDAR