BEGIN:VCALENDAR
VERSION:2.0
PRODID:-//Fresno Council of Governments - ECPv6.15.20//NONSGML v1.0//EN
CALSCALE:GREGORIAN
METHOD:PUBLISH
X-WR-CALNAME:Fresno Council of Governments
X-ORIGINAL-URL:https://www.fresnocog.org
X-WR-CALDESC:Events for Fresno Council of Governments
REFRESH-INTERVAL;VALUE=DURATION:PT1H
X-Robots-Tag:noindex
X-PUBLISHED-TTL:PT1H
BEGIN:VTIMEZONE
TZID:America/Los_Angeles
BEGIN:DAYLIGHT
TZOFFSETFROM:-0800
TZOFFSETTO:-0700
TZNAME:PDT
DTSTART:20170312T100000
END:DAYLIGHT
BEGIN:STANDARD
TZOFFSETFROM:-0700
TZOFFSETTO:-0800
TZNAME:PST
DTSTART:20171105T090000
END:STANDARD
BEGIN:DAYLIGHT
TZOFFSETFROM:-0800
TZOFFSETTO:-0700
TZNAME:PDT
DTSTART:20180311T100000
END:DAYLIGHT
BEGIN:STANDARD
TZOFFSETFROM:-0700
TZOFFSETTO:-0800
TZNAME:PST
DTSTART:20181104T090000
END:STANDARD
BEGIN:DAYLIGHT
TZOFFSETFROM:-0800
TZOFFSETTO:-0700
TZNAME:PDT
DTSTART:20190310T100000
END:DAYLIGHT
BEGIN:STANDARD
TZOFFSETFROM:-0700
TZOFFSETTO:-0800
TZNAME:PST
DTSTART:20191103T090000
END:STANDARD
END:VTIMEZONE
BEGIN:VEVENT
DTSTART;TZID=America/Los_Angeles:20180201T100000
DTEND;TZID=America/Los_Angeles:20180201T120000
DTSTAMP:20260421T153211
CREATED:20180126T234521Z
LAST-MODIFIED:20180126T234521Z
UID:216915-1517479200-1517486400@www.fresnocog.org
SUMMARY:SJV Regional Planning Agencies' Directors' Committee meeting
DESCRIPTION:The meeting will take place at 10 am at CALCOG in Sacramento: \n1107 9th Street\, Suite 810 \nSacramento\, CA 95814 \n  \nSJV RPA Feb 1\, 2018 Agenda Packet
URL:https://www.fresnocog.org/event/sjv-regional-planning-agencies-directors-committee-meeting-2/
END:VEVENT
BEGIN:VEVENT
DTSTART;TZID=America/Los_Angeles:20180201T100000
DTEND;TZID=America/Los_Angeles:20180201T120000
DTSTAMP:20260421T153211
CREATED:20180126T234521Z
LAST-MODIFIED:20180126T234521Z
UID:17183-1517479200-1517486400@www.fresnocog.org
SUMMARY:SJV Regional Planning Agencies' Directors' Committee meeting
DESCRIPTION:The meeting will take place at 10 am at CALCOG in Sacramento: \n1107 9th Street\, Suite 810 \nSacramento\, CA 95814 \n  \nSJV RPA Feb 1\, 2018 Agenda Packet
URL:https://www.fresnocog.org/event/sjv-regional-planning-agencies-directors-committee-meeting/
END:VEVENT
BEGIN:VEVENT
DTSTART;TZID=America/Los_Angeles:20180205T140000
DTEND;TZID=America/Los_Angeles:20180205T153000
DTSTAMP:20260421T153211
CREATED:20180108T224612Z
LAST-MODIFIED:20180108T224612Z
UID:216908-1517839200-1517844600@www.fresnocog.org
SUMMARY:Airport Land Use Commission - CANCELLED
DESCRIPTION:This meeting was cancelled due to lack of content. Contact ALUC staff member Brenda Veenendaal with any questions at brendav@fresnocog.org or 559-233-4148 ext. 219.
URL:https://www.fresnocog.org/event/airport-land-use-commission-2-2/
END:VEVENT
BEGIN:VEVENT
DTSTART;TZID=America/Los_Angeles:20180205T140000
DTEND;TZID=America/Los_Angeles:20180205T153000
DTSTAMP:20260421T153211
CREATED:20180108T224612Z
LAST-MODIFIED:20180108T224612Z
UID:17051-1517839200-1517844600@www.fresnocog.org
SUMMARY:Airport Land Use Commission - CANCELLED
DESCRIPTION:This meeting was cancelled due to lack of content. Contact ALUC staff member Brenda Veenendaal with any questions at brendav@fresnocog.org or 559-233-4148 ext. 219.
URL:https://www.fresnocog.org/event/airport-land-use-commission-2/
END:VEVENT
BEGIN:VEVENT
DTSTART;VALUE=DATE:20180212
DTEND;VALUE=DATE:20180213
DTSTAMP:20260421T153211
CREATED:20171219T230509Z
LAST-MODIFIED:20171219T230509Z
UID:216883-1518393600-1518479999@www.fresnocog.org
SUMMARY:Office Closed - Lincoln's Birthday
DESCRIPTION:
URL:https://www.fresnocog.org/event/office-closed-lincolns-birthday-3/
END:VEVENT
BEGIN:VEVENT
DTSTART;VALUE=DATE:20180212
DTEND;VALUE=DATE:20180213
DTSTAMP:20260421T153211
CREATED:20171219T230509Z
LAST-MODIFIED:20171219T230509Z
UID:16923-1518393600-1518479999@www.fresnocog.org
SUMMARY:Office Closed - Lincoln's Birthday
DESCRIPTION:
URL:https://www.fresnocog.org/event/office-closed-lincolns-birthday/
END:VEVENT
BEGIN:VEVENT
DTSTART;VALUE=DATE:20180219
DTEND;VALUE=DATE:20180220
DTSTAMP:20260421T153211
CREATED:20171219T230824Z
LAST-MODIFIED:20171219T230824Z
UID:16925-1518998400-1519084799@www.fresnocog.org
SUMMARY:Office Closed - President's Day
DESCRIPTION:
URL:https://www.fresnocog.org/event/office-closed-presidents-day/
END:VEVENT
BEGIN:VEVENT
DTSTART;VALUE=DATE:20180219
DTEND;VALUE=DATE:20180220
DTSTAMP:20260421T153211
CREATED:20171219T230824Z
LAST-MODIFIED:20171219T230824Z
UID:216884-1518998400-1519084799@www.fresnocog.org
SUMMARY:Office Closed - President's Day
DESCRIPTION:
URL:https://www.fresnocog.org/event/office-closed-presidents-day-3/
END:VEVENT
END:VCALENDAR