BEGIN:VCALENDAR
VERSION:2.0
PRODID:-//Fresno Council of Governments - ECPv6.15.20//NONSGML v1.0//EN
CALSCALE:GREGORIAN
METHOD:PUBLISH
X-WR-CALNAME:Fresno Council of Governments
X-ORIGINAL-URL:https://www.fresnocog.org
X-WR-CALDESC:Events for Fresno Council of Governments
REFRESH-INTERVAL;VALUE=DURATION:PT1H
X-Robots-Tag:noindex
X-PUBLISHED-TTL:PT1H
BEGIN:VTIMEZONE
TZID:America/Los_Angeles
BEGIN:DAYLIGHT
TZOFFSETFROM:-0800
TZOFFSETTO:-0700
TZNAME:PDT
DTSTART:20170312T100000
END:DAYLIGHT
BEGIN:STANDARD
TZOFFSETFROM:-0700
TZOFFSETTO:-0800
TZNAME:PST
DTSTART:20171105T090000
END:STANDARD
BEGIN:DAYLIGHT
TZOFFSETFROM:-0800
TZOFFSETTO:-0700
TZNAME:PDT
DTSTART:20180311T100000
END:DAYLIGHT
BEGIN:STANDARD
TZOFFSETFROM:-0700
TZOFFSETTO:-0800
TZNAME:PST
DTSTART:20181104T090000
END:STANDARD
BEGIN:DAYLIGHT
TZOFFSETFROM:-0800
TZOFFSETTO:-0700
TZNAME:PDT
DTSTART:20190310T100000
END:DAYLIGHT
BEGIN:STANDARD
TZOFFSETFROM:-0700
TZOFFSETTO:-0800
TZNAME:PST
DTSTART:20191103T090000
END:STANDARD
BEGIN:DAYLIGHT
TZOFFSETFROM:-0800
TZOFFSETTO:-0700
TZNAME:PDT
DTSTART:20200308T100000
END:DAYLIGHT
BEGIN:STANDARD
TZOFFSETFROM:-0700
TZOFFSETTO:-0800
TZNAME:PST
DTSTART:20201101T090000
END:STANDARD
END:VTIMEZONE
BEGIN:VEVENT
DTSTART;VALUE=DATE:20181224
DTEND;VALUE=DATE:20181226
DTSTAMP:20260420T233636
CREATED:20171219T234440Z
LAST-MODIFIED:20171219T234440Z
UID:16941-1545609600-1545782399@www.fresnocog.org
SUMMARY:Office Closed - Christmas
DESCRIPTION:
URL:https://www.fresnocog.org/event/office-closed-christmas/
END:VEVENT
BEGIN:VEVENT
DTSTART;VALUE=DATE:20181224
DTEND;VALUE=DATE:20181226
DTSTAMP:20260420T233636
CREATED:20171219T234440Z
LAST-MODIFIED:20171219T234440Z
UID:216893-1545609600-1545782399@www.fresnocog.org
SUMMARY:Office Closed - Christmas
DESCRIPTION:
URL:https://www.fresnocog.org/event/office-closed-christmas-2/
END:VEVENT
BEGIN:VEVENT
DTSTART;VALUE=DATE:20181231
DTEND;VALUE=DATE:20190102
DTSTAMP:20260420T233636
CREATED:20171219T234529Z
LAST-MODIFIED:20171219T234529Z
UID:16943-1546214400-1546387199@www.fresnocog.org
SUMMARY:Office Closed - New Year's Day
DESCRIPTION:
URL:https://www.fresnocog.org/event/office-closed-new-years-day-2/
END:VEVENT
BEGIN:VEVENT
DTSTART;VALUE=DATE:20181231
DTEND;VALUE=DATE:20190102
DTSTAMP:20260420T233636
CREATED:20171219T234529Z
LAST-MODIFIED:20171219T234529Z
UID:216894-1546214400-1546387199@www.fresnocog.org
SUMMARY:Office Closed - New Year's Day
DESCRIPTION:
URL:https://www.fresnocog.org/event/office-closed-new-years-day-2-2/
END:VEVENT
END:VCALENDAR