BEGIN:VCALENDAR
VERSION:2.0
PRODID:-//Fresno Council of Governments - ECPv6.15.20//NONSGML v1.0//EN
CALSCALE:GREGORIAN
METHOD:PUBLISH
X-WR-CALNAME:Fresno Council of Governments
X-ORIGINAL-URL:https://www.fresnocog.org
X-WR-CALDESC:Events for Fresno Council of Governments
REFRESH-INTERVAL;VALUE=DURATION:PT1H
X-Robots-Tag:noindex
X-PUBLISHED-TTL:PT1H
BEGIN:VTIMEZONE
TZID:UTC
BEGIN:STANDARD
TZOFFSETFROM:+0000
TZOFFSETTO:+0000
TZNAME:UTC
DTSTART:20230101T000000
END:STANDARD
END:VTIMEZONE
BEGIN:VEVENT
DTSTART;TZID=UTC:20240205T140000
DTEND;TZID=UTC:20240205T153000
DTSTAMP:20260419T092342
CREATED:20240117T001408Z
LAST-MODIFIED:20240117T001408Z
UID:217676-1707141600-1707147000@www.fresnocog.org
SUMMARY:Airport Land Use Commission Meeting
DESCRIPTION:The ALUC Meeting Agenda will be available here on January 30\, 2024:  Fresno COG Agenda Reader
URL:https://www.fresnocog.org/event/airport-land-use-commission-meeting-4/
LOCATION:Fresno Council of Governments\, 2035 Tulare Street\, Ste 201\, Fresno\, CA\, 93721\, United States
ORGANIZER;CN="Brenda Thomas":MAILTO:bthom
END:VEVENT
BEGIN:VEVENT
DTSTART;TZID=UTC:20240208T160000
DTEND;TZID=UTC:20240208T180000
DTSTAMP:20260419T092342
CREATED:20240117T001600Z
LAST-MODIFIED:20240117T001600Z
UID:217678-1707408000-1707415200@www.fresnocog.org
SUMMARY:Measure C Citizen Oversight Committee Meeting
DESCRIPTION:Meeting agendas will be posted here\, one week prior to the meeting: Fresno COG Agenda Reader
URL:https://www.fresnocog.org/event/measure-c-citizen-oversight-committee-meeting-6/
LOCATION:Fresno Council of Governments\, 2035 Tulare Street\, Ste 201\, Fresno\, CA\, 93721\, United States
ORGANIZER;CN="Jake Martinez":MAILTO:jmartinez@fresnocog.org
END:VEVENT
BEGIN:VEVENT
DTSTART;VALUE=DATE:20240212
DTEND;VALUE=DATE:20240213
DTSTAMP:20260419T092342
CREATED:20240117T001758Z
LAST-MODIFIED:20240117T001758Z
UID:217679-1707696000-1707782399@www.fresnocog.org
SUMMARY:Holiday COG Office Closed - Lincoln's Birthday
DESCRIPTION:
URL:https://www.fresnocog.org/event/holiday-cog-office-closed-lincolns-birthday/
END:VEVENT
BEGIN:VEVENT
DTSTART;TZID=UTC:20240216T083000
DTEND;TZID=UTC:20240216T100000
DTSTAMP:20260419T092342
CREATED:20240117T001910Z
LAST-MODIFIED:20240117T002123Z
UID:217680-1708072200-1708077600@www.fresnocog.org
SUMMARY:Transportation Technical Committee (TTC) Meeting
DESCRIPTION:Meeting agendas will be posted here\, one week prior to the meeting: Fresno COG Agenda Reader
URL:https://www.fresnocog.org/event/transportation-technical-committee-ttc-meeting-4/
LOCATION:Fresno Council of Governments\, 2035 Tulare Street\, Ste 201\, Fresno\, CA\, 93721\, United States
ORGANIZER;CN="Denise Flores":MAILTO:dflores@fresnocog.org
END:VEVENT
BEGIN:VEVENT
DTSTART;TZID=UTC:20240216T100000
DTEND;TZID=UTC:20240216T120000
DTSTAMP:20260419T092342
CREATED:20240117T002239Z
LAST-MODIFIED:20240117T002239Z
UID:217681-1708077600-1708084800@www.fresnocog.org
SUMMARY:Policy Advisory Committee
DESCRIPTION:
URL:https://www.fresnocog.org/event/policy-advisory-committee-18/
LOCATION:Fresno Council of Governments\, 2035 Tulare Street\, Ste 201\, Fresno\, CA\, 93721\, United States
ORGANIZER;CN="Denise Flores":MAILTO:dflores@fresnocog.org
END:VEVENT
BEGIN:VEVENT
DTSTART;VALUE=DATE:20240219
DTEND;VALUE=DATE:20240220
DTSTAMP:20260419T092342
CREATED:20240117T002542Z
LAST-MODIFIED:20240117T002542Z
UID:217684-1708300800-1708387199@www.fresnocog.org
SUMMARY:Holiday\, COG Office Closed for President's Day
DESCRIPTION:
URL:https://www.fresnocog.org/event/holiday-cog-office-closed-for-presidents-day/
END:VEVENT
BEGIN:VEVENT
DTSTART;TZID=UTC:20240220T133000
DTEND;TZID=UTC:20240220T150000
DTSTAMP:20260419T092342
CREATED:20240117T002743Z
LAST-MODIFIED:20240117T002743Z
UID:217685-1708435800-1708441200@www.fresnocog.org
SUMMARY:Social Services Transit Advisory Council
DESCRIPTION:
URL:https://www.fresnocog.org/event/social-services-transit-advisory-council-6/
LOCATION:Fresno Council of Governments\, 2035 Tulare Street\, Ste 201\, Fresno\, CA\, 93721\, United States
ORGANIZER;CN="Todd Sobrado":MAILTO:har
END:VEVENT
BEGIN:VEVENT
DTSTART;TZID=UTC:20240229T173000
DTEND;TZID=UTC:20240229T200000
DTSTAMP:20260419T092342
CREATED:20240117T002450Z
LAST-MODIFIED:20240117T002838Z
UID:217682-1709227800-1709236800@www.fresnocog.org
SUMMARY:Fresno COG Policy Board Meeting
DESCRIPTION:Meeting Agendas will be posted here one week prior to the meeting:  Fresno COG Agenda Reader
URL:https://www.fresnocog.org/event/fresno-cog-policy-board-meeting-6/
LOCATION:Fresno Council of Governments\, 2035 Tulare Street\, Ste 201\, Fresno\, CA\, 93721\, United States
ORGANIZER;CN="Robert Phipps":MAILTO:rphipps@fresnocog.org
END:VEVENT
END:VCALENDAR