BEGIN:VCALENDAR
VERSION:2.0
PRODID:-//Fresno Council of Governments - ECPv6.15.20//NONSGML v1.0//EN
CALSCALE:GREGORIAN
METHOD:PUBLISH
X-ORIGINAL-URL:https://www.fresnocog.org
X-WR-CALDESC:Events for Fresno Council of Governments
REFRESH-INTERVAL;VALUE=DURATION:PT1H
X-Robots-Tag:noindex
X-PUBLISHED-TTL:PT1H
BEGIN:VTIMEZONE
TZID:America/Los_Angeles
BEGIN:DAYLIGHT
TZOFFSETFROM:-0800
TZOFFSETTO:-0700
TZNAME:PDT
DTSTART:20240310T100000
END:DAYLIGHT
BEGIN:STANDARD
TZOFFSETFROM:-0700
TZOFFSETTO:-0800
TZNAME:PST
DTSTART:20241103T090000
END:STANDARD
BEGIN:DAYLIGHT
TZOFFSETFROM:-0800
TZOFFSETTO:-0700
TZNAME:PDT
DTSTART:20250309T100000
END:DAYLIGHT
BEGIN:STANDARD
TZOFFSETFROM:-0700
TZOFFSETTO:-0800
TZNAME:PST
DTSTART:20251102T090000
END:STANDARD
BEGIN:DAYLIGHT
TZOFFSETFROM:-0800
TZOFFSETTO:-0700
TZNAME:PDT
DTSTART:20260308T100000
END:DAYLIGHT
BEGIN:STANDARD
TZOFFSETFROM:-0700
TZOFFSETTO:-0800
TZNAME:PST
DTSTART:20261101T090000
END:STANDARD
END:VTIMEZONE
BEGIN:VEVENT
DTSTART;TZID=America/Los_Angeles:20251002T160000
DTEND;TZID=America/Los_Angeles:20251002T180000
DTSTAMP:20260424T211113
CREATED:20250929T163432Z
LAST-MODIFIED:20250929T184550Z
UID:220373-1759420800-1759428000@www.fresnocog.org
SUMMARY:Measure C Renewal Facilitation Team Meeting
DESCRIPTION:
URL:https://www.fresnocog.org/event/measure-c-facilitation-team-meeting-oct2/
LOCATION:Fresno Council of Governments\, 2035 Tulare Street\, Ste 201\, Fresno\, CA\, 93721\, United States
CATEGORIES:Committees,Special Groups
ATTACH;FMTTYPE=image/png:https://www.fresnocog.org/wp-content/uploads/2025/09/Measure-C_Logo-Variation_wordmark1600px.png
ORGANIZER;CN="Robert Phipps":MAILTO:rphipps@fresnocog.org
END:VEVENT
BEGIN:VEVENT
DTSTART;TZID=America/Los_Angeles:20251002T170000
DTEND;TZID=America/Los_Angeles:20251002T183000
DTSTAMP:20260424T211113
CREATED:20241217T224754Z
LAST-MODIFIED:20250929T184657Z
UID:219120-1759424400-1759429800@www.fresnocog.org
SUMMARY:Measure C Citizen Oversight Committee (COC) Meeting
DESCRIPTION:
URL:https://www.fresnocog.org/event/measure-c-citizen-oversight-committee-coc-meeting-5/
LOCATION:Fresno Council of Governments\, 2035 Tulare Street\, Ste 201\, Fresno\, CA\, 93721\, United States
CATEGORIES:Committees
ORGANIZER;CN="Jake Martinez":MAILTO:jmartinez@fresnocog.org
END:VEVENT
BEGIN:VEVENT
DTSTART;TZID=America/Los_Angeles:20251006T140000
DTEND;TZID=America/Los_Angeles:20251006T153000
DTSTAMP:20260424T211113
CREATED:20241217T215351Z
LAST-MODIFIED:20241217T215351Z
UID:219088-1759759200-1759764600@www.fresnocog.org
SUMMARY:Fresno County Airport Land Use Commission (ALUC)
DESCRIPTION:
URL:https://www.fresnocog.org/event/fresno-county-airport-land-use-commission-aluc-7/
LOCATION:Fresno Council of Governments\, 2035 Tulare Street\, Ste 201\, Fresno\, CA\, 93721\, United States
ORGANIZER;CN="Brenda Thomas":MAILTO:bthom
END:VEVENT
BEGIN:VEVENT
DTSTART;TZID=America/Los_Angeles:20251009T150000
DTEND;TZID=America/Los_Angeles:20251009T173000
DTSTAMP:20260424T211113
CREATED:20250929T184849Z
LAST-MODIFIED:20250929T184913Z
UID:220380-1760022000-1760031000@www.fresnocog.org
SUMMARY:Measure C Steering Committee Meeting
DESCRIPTION:
URL:https://www.fresnocog.org/event/measure-c-steering-committee-meeting-oct9/
LOCATION:Fresno Council of Governments\, 2035 Tulare Street\, Ste 201\, Fresno\, CA\, 93721\, United States
CATEGORIES:Committees,Special Groups
ORGANIZER;CN="Brenda Thomas":MAILTO:bthom
END:VEVENT
BEGIN:VEVENT
DTSTART;TZID=America/Los_Angeles:20251010T083000
DTEND;TZID=America/Los_Angeles:20251010T100000
DTSTAMP:20260424T211113
CREATED:20241218T184446Z
LAST-MODIFIED:20241218T184446Z
UID:219232-1760085000-1760090400@www.fresnocog.org
SUMMARY:Transportation Technical Committee
DESCRIPTION:
URL:https://www.fresnocog.org/event/transportation-technical-committee-23/
LOCATION:Fresno Council of Governments\, 2035 Tulare Street\, Ste 201\, Fresno\, CA\, 93721\, United States
ORGANIZER;CN="Denise Flores":MAILTO:dflores@fresnocog.org
END:VEVENT
BEGIN:VEVENT
DTSTART;TZID=America/Los_Angeles:20251010T100000
DTEND;TZID=America/Los_Angeles:20251010T113000
DTSTAMP:20260424T211113
CREATED:20241217T193545Z
LAST-MODIFIED:20241217T193545Z
UID:219051-1760090400-1760095800@www.fresnocog.org
SUMMARY:Policy Advisory Committee
DESCRIPTION:
URL:https://www.fresnocog.org/event/policy-advisory-committee-29/
LOCATION:Fresno Council of Governments\, 2035 Tulare Street\, Ste 201\, Fresno\, CA\, 93721\, United States
ORGANIZER;CN="Denise Flores":MAILTO:dflores@fresnocog.org
END:VEVENT
BEGIN:VEVENT
DTSTART;TZID=America/Los_Angeles:20251016T150000
DTEND;TZID=America/Los_Angeles:20251016T173000
DTSTAMP:20260424T211113
CREATED:20251014T190300Z
LAST-MODIFIED:20251014T190300Z
UID:220454-1760626800-1760635800@www.fresnocog.org
SUMMARY:Measure C Steering Committee Meeting
DESCRIPTION:Meeting Agenda:  Measure C Renewal Steering Committee – Agenda Reader
URL:https://www.fresnocog.org/event/measure-c-steering-committee-meeting-2/
CATEGORIES:Special Groups
ORGANIZER;CN="Brenda Thomas":MAILTO:bthom
END:VEVENT
BEGIN:VEVENT
DTSTART;TZID=America/Los_Angeles:20251021T133000
DTEND;TZID=America/Los_Angeles:20251021T150000
DTSTAMP:20260424T211113
CREATED:20241217T214541Z
LAST-MODIFIED:20250314T203950Z
UID:219076-1761053400-1761058800@www.fresnocog.org
SUMMARY:Social Services Transportation Advisory Council (SSTAC) Meeting
DESCRIPTION:
URL:https://www.fresnocog.org/event/social-services-transit-advisory-council-sstac-meeting-10/
LOCATION:Fresno Council of Governments\, 2035 Tulare Street\, Ste 201\, Fresno\, CA\, 93721\, United States
ORGANIZER;CN="Todd Sobrado":MAILTO:har
END:VEVENT
BEGIN:VEVENT
DTSTART;TZID=America/Los_Angeles:20251022T140000
DTEND;TZID=America/Los_Angeles:20251022T160000
DTSTAMP:20260424T211113
CREATED:20241217T221148Z
LAST-MODIFIED:20241217T221148Z
UID:219110-1761141600-1761148800@www.fresnocog.org
SUMMARY:RTP Roundtable Meeting
DESCRIPTION:
URL:https://www.fresnocog.org/event/rtp-roundtable-meeting-19/
LOCATION:Fresno Council of Governments\, 2035 Tulare Street\, Ste 201\, Fresno\, CA\, 93721\, United States
ORGANIZER;CN="Paul Herman":MAILTO:pherman@fresnocog.org
END:VEVENT
BEGIN:VEVENT
DTSTART;TZID=America/Los_Angeles:20251030T173000
DTEND;TZID=America/Los_Angeles:20251030T190000
DTSTAMP:20260424T211113
CREATED:20241217T001914Z
LAST-MODIFIED:20241217T001914Z
UID:218965-1761845400-1761850800@www.fresnocog.org
SUMMARY:Policy Board Meeting
DESCRIPTION:
URL:https://www.fresnocog.org/event/policy-board-meeting-103025/
LOCATION:Fresno Council of Governments\, 2035 Tulare Street\, Ste 201\, Fresno\, CA\, 93721\, United States
ORGANIZER;CN="Denise Flores":MAILTO:dflores@fresnocog.org
END:VEVENT
END:VCALENDAR