BEGIN:VCALENDAR
VERSION:2.0
PRODID:-//Fresno Council of Governments - ECPv6.15.20//NONSGML v1.0//EN
CALSCALE:GREGORIAN
METHOD:PUBLISH
X-WR-CALNAME:Fresno Council of Governments
X-ORIGINAL-URL:https://www.fresnocog.org
X-WR-CALDESC:Events for Fresno Council of Governments
REFRESH-INTERVAL;VALUE=DURATION:PT1H
X-Robots-Tag:noindex
X-PUBLISHED-TTL:PT1H
BEGIN:VTIMEZONE
TZID:America/Los_Angeles
BEGIN:DAYLIGHT
TZOFFSETFROM:-0800
TZOFFSETTO:-0700
TZNAME:PDT
DTSTART:20240310T100000
END:DAYLIGHT
BEGIN:STANDARD
TZOFFSETFROM:-0700
TZOFFSETTO:-0800
TZNAME:PST
DTSTART:20241103T090000
END:STANDARD
BEGIN:DAYLIGHT
TZOFFSETFROM:-0800
TZOFFSETTO:-0700
TZNAME:PDT
DTSTART:20250309T100000
END:DAYLIGHT
BEGIN:STANDARD
TZOFFSETFROM:-0700
TZOFFSETTO:-0800
TZNAME:PST
DTSTART:20251102T090000
END:STANDARD
BEGIN:DAYLIGHT
TZOFFSETFROM:-0800
TZOFFSETTO:-0700
TZNAME:PDT
DTSTART:20260308T100000
END:DAYLIGHT
BEGIN:STANDARD
TZOFFSETFROM:-0700
TZOFFSETTO:-0800
TZNAME:PST
DTSTART:20261101T090000
END:STANDARD
END:VTIMEZONE
BEGIN:VEVENT
DTSTART;TZID=America/Los_Angeles:20251106T170000
DTEND;TZID=America/Los_Angeles:20251106T183000
DTSTAMP:20260424T193534
CREATED:20241217T224659Z
LAST-MODIFIED:20251117T223941Z
UID:219118-1762448400-1762453800@www.fresnocog.org
SUMMARY:Measure C Citizen Oversight Committee (COC) Meeting (Cancelled)
DESCRIPTION:
URL:https://www.fresnocog.org/event/measure-c-citizen-oversight-committee-coc-meeting-nev6/
LOCATION:Fresno Council of Governments\, 2035 Tulare Street\, Ste 201\, Fresno\, CA\, 93721\, United States
CATEGORIES:Committees
ORGANIZER;CN="Jake Martinez":MAILTO:jmartinez@fresnocog.org
END:VEVENT
BEGIN:VEVENT
DTSTART;VALUE=DATE:20251111
DTEND;VALUE=DATE:20251112
DTSTAMP:20260424T193534
CREATED:20241217T235844Z
LAST-MODIFIED:20241217T235844Z
UID:219162-1762819200-1762905599@www.fresnocog.org
SUMMARY:Holiday - COG Office Closed
DESCRIPTION:Office closed in observance of Veterans day.
URL:https://www.fresnocog.org/event/holiday-cog-office-closed-13/
END:VEVENT
BEGIN:VEVENT
DTSTART;TZID=America/Los_Angeles:20251114T083000
DTEND;TZID=America/Los_Angeles:20251114T100000
DTSTAMP:20260424T193534
CREATED:20241217T181856Z
LAST-MODIFIED:20241217T181856Z
UID:219031-1763109000-1763114400@www.fresnocog.org
SUMMARY:Transportation Technical Committee
DESCRIPTION:
URL:https://www.fresnocog.org/event/transportation-technical-committee-24/
LOCATION:Fresno Council of Governments\, 2035 Tulare Street\, Ste 201\, Fresno\, CA\, 93721\, United States
ORGANIZER;CN="Denise Flores":MAILTO:dflores@fresnocog.org
END:VEVENT
BEGIN:VEVENT
DTSTART;TZID=America/Los_Angeles:20251114T100000
DTEND;TZID=America/Los_Angeles:20251114T113000
DTSTAMP:20260424T193534
CREATED:20241218T182227Z
LAST-MODIFIED:20241218T182227Z
UID:219217-1763114400-1763119800@www.fresnocog.org
SUMMARY:Policy Advisory Committee
DESCRIPTION:
URL:https://www.fresnocog.org/event/policy-advisory-committee-21/
LOCATION:Fresno Council of Governments\, 2035 Tulare Street\, Ste 201\, Fresno\, CA\, 93721\, United States
ORGANIZER;CN="Denise Flores":MAILTO:dflores@fresnocog.org
END:VEVENT
BEGIN:VEVENT
DTSTART;TZID=America/Los_Angeles:20251118T120000
DTEND;TZID=America/Los_Angeles:20251118T133000
DTSTAMP:20260424T193534
CREATED:20251030T205643Z
LAST-MODIFIED:20251030T210336Z
UID:220504-1763467200-1763472600@www.fresnocog.org
SUMMARY:Virtual Public Workshop for Extreme Heat Analysis and Shade Adaptation Plan
DESCRIPTION:Supported by community input\, Fresno COG is developing guidance on a regional approach to increase vegetation and shade projects for key transportation corridors in Fresno County\, particularly where pedestrians\, bicyclists\, and transit riders are directly affected. \nJOIN US FOR A PUBLIC WORKSHOP!\nA virtual workshop is scheduled for Tuesday\, November 18\, 2025\, from 12 noon to 1:30 p.m.\, which will include interactive activities to gain valuable input. Scan the QR Code or visit http://bit.ly/435DgVM to register for the virtual workshop. After registering\, a Zoom link will be sent for participation. \nWhat will be covered at the Extreme Heat virtual workshop?\n• Project summary to date\n• Input received from previous public outreach activities\n• A Vulnerability Analysis\n• Pedestrian and bicyclist traffic analysis and location analysis\n• Input on tree canopy and vegetative cover projects\n• Discussion on Vulnerability Analysis and categories for site selection \nA draft plan will be posted for review in early 2026 on the project website at\nFresno County Extreme Heat Analysis and Shade Adaptation Plan. \nQuestions? \nPlease contact Matthew Shimizu at mshimizu@fresnocog.org or 559-223-4148 Ext. 240 \nEnglish Flyer \nFolleto Español
URL:https://www.fresnocog.org/event/virtual-public-workshop-for-extreme-heat-analysis-and-shade-adaptation-plan/
LOCATION:Zoom
END:VEVENT
BEGIN:VEVENT
DTSTART;TZID=America/Los_Angeles:20251119T150000
DTEND;TZID=America/Los_Angeles:20251119T173000
DTSTAMP:20260424T193534
CREATED:20241217T221239Z
LAST-MODIFIED:20251117T223627Z
UID:219112-1763564400-1763573400@www.fresnocog.org
SUMMARY:Measure C Steering Committee Meeting
DESCRIPTION:
URL:https://www.fresnocog.org/event/steering-committee-meeting-11-19-25/
LOCATION:Fresno Council of Governments\, 2035 Tulare Street\, Ste 201\, Fresno\, CA\, 93721\, United States
ORGANIZER;CN="Brenda Thomas":MAILTO:bthom
END:VEVENT
BEGIN:VEVENT
DTSTART;TZID=America/Los_Angeles:20251120T173000
DTEND;TZID=America/Los_Angeles:20251120T190000
DTSTAMP:20260424T193534
CREATED:20241217T002020Z
LAST-MODIFIED:20241217T002020Z
UID:218967-1763659800-1763665200@www.fresnocog.org
SUMMARY:Policy Board Meeting
DESCRIPTION:
URL:https://www.fresnocog.org/event/policy-board-meeting-112025/
LOCATION:Fresno Council of Governments\, 2035 Tulare Street\, Ste 201\, Fresno\, CA\, 93721\, United States
ORGANIZER;CN="Denise Flores":MAILTO:dflores@fresnocog.org
END:VEVENT
BEGIN:VEVENT
DTSTART;VALUE=DATE:20251127
DTEND;VALUE=DATE:20251129
DTSTAMP:20260424T193534
CREATED:20241218T165341Z
LAST-MODIFIED:20241218T165341Z
UID:219167-1764201600-1764374399@www.fresnocog.org
SUMMARY:Holiday - COG Office Closed
DESCRIPTION:Office closed in observance of Thanksgiving.
URL:https://www.fresnocog.org/event/holiday-cog-office-closed-14/
END:VEVENT
END:VCALENDAR